Workbook
Name ANA_4: #REF!
Name ANA_4I: #REF!
Name ANÁLISIS: #REF!
Name ANALIZAR: #REF!
Name APLI_3: #REF!
Name APLI_3I: #REF!
Name APLICACIÓN: #REF!
Name APLICAR: #REF!
Name CB: #REF!
Name CB_1: #REF!
Name CB_1_1: #REF!
Name CB_1_2: #REF!
Name CB_1_3: #REF!
Name CB_2: #REF!
Name CB_2_1: #REF!
Name CB_2_2: #REF!
Name CB_2_3: #REF!
Name CB_2_4: #REF!
Name CB_2_5: #REF!
Name CB_2_6: #REF!
Name CB_3: #REF!
Name CB_3_1: #REF!
Name CB_3_2: #REF!
Name CB_3_3: #REF!
Name CB_3_4: #REF!
Name CB_3_5: #REF!
Name CB_3_6: #REF!
Name CB_3_7: #REF!
Name CIENCIAS_BÁSICAS: #REF!
Name COM_2: #REF!
Name COM_2I: #REF!
Name COMPRENDER: #REF!
Name COMPRENSIÓN: #REF!
Name CON_1: #REF!
Name CON_1I: #REF!
Name CONOCER: #REF!
Name CONOCIMIENTO: #REF!
Name E: #REF!
Name E_1: #REF!
Name E_1_1: #REF!
Name E_1_2: #REF!
Name E_1_3: #REF!
Name E_2: #REF!
Name E_2_1: #REF!
Name E_2_2: #REF!
Name E_3: #REF!
Name E_3_1: #REF!
Name E_3_2: #REF!
Name EMPRENDIMIENTO: #REF!
Name Especialización_Profesional: #REF!
Name Especialización_Tecnológica: #REF!
Name EVA_6: #REF!
Name EVA_6I: #REF!
Name EVALUACIÓN: #REF!
Name EVALUAR: #REF!
Name F_3_5: #REF!
Name FH: #REF!
Name FH_1: #REF!
Name FH_1_1: #REF!
Name FH_1_2: #REF!

Sheet Malla curricular
B1: 1 Semestre | E1: 2 Semestre | H1: 3 Semestre | K1: 4 Semestre | N1: 5 Semestre | Q1: 6 Semestre | T1: 7 Semestre | W1: 8 Semestre | Z1: 9 Semestre
B3: Cálculo Diferencial | E3: Cálculo Integral | H3: Cálculo Multivariado | K3: Ecuaciones Diferenciales | N3: Métodos Numéricos | Q3: Ingeniería de las Reacciones | T3: Ciencia de los Materiales | W3: Electiva Complementaria I | Z3: Electiva Complementaria II
B5: 4 créditos (T) (Ba) | E5: 4 créditos (T) (Ba) | H5: 4 créditos (T) (Ba) | K5: 3 créditos (T) (Ba) | N5: 3 créditos (TP) (Ps) | Q5: 3 créditos (TP) (Ps) | T5: 3 créditos (TP) (Ps) | W5: 2 créditos (T) (Co) | Z5: 2 créditos (T) (Co)
B6: Química Básica | E6: Álgebra Lineal | H6: Termodinámica | K6: Balance de Materia y Energía | N6: Transferencia de Calor | Q6: Química Inorgánica | T6: Electiva Profesional I | W6: Electiva Profesional II | Z6: Electiva Profesional III
B8: 4 créditos (TP) (Ba) | E8: 3 créditos (T) (Ba) | H8: 3 créditos (TP) (Ba) | K8: 3 créditos (TP) (Ps) | N8: 3 créditos (TP) (Ps) | Q8: 3 créditos (TP) (Ba) | T8: 3 créditos (TP) (Ps) | W8: 3 créditos (TP) (Ps) | Z8: 3 créditos (TP) (Ps)
B9: Dibujo Asistido por Computador | E9: Química Analítica e Instrumental | H9: Química Orgánica | K9: Mecánica de Fluidos | N9: Gestión Integrada | Q9: Transferencia de Masa | T9: Operaciones Unitarias | W9: Diseño de Procesos | Z9: Simulación y Optimización de Procesos
B11: 2 créditos (TP) (Ps) | E11: 3 créditos (TP) (Ba) | H11: 3 créditos (TP) (Ba) | K11: 3 créditos (TP) (Ps) | N11: 3 créditos (T) (Ps) | Q11: 3 créditos (TP) (Ps) | T11: 3 créditos (TP) (Ps) | W11: 3 créditos (TP) (Ps) | Z11: 3 créditos (TP) (Ps)
B12: Introducción a la Ingeniería de Procesos | E12: Física Mecánica | H12: Electricidad y Magnetismo | K12: Diseño de Experimentos | N12: Manejo de Sólidos | Q12: Procesos de Manufactura | T12: Diseño de Productos | W12: Metodología de la Investigación | Z12: Trabajo de Grado
B14: 2 créditos (T) (Ps) | E14: 4 créditos (TP) (Ba) | H14: 3 créditos (TP) (Ba) | K14: 2 créditos (TP) (Ba) | N14: 3 créditos (TP) (Ps) | Q14: 3 créditos (TP) (Ps) | T14: 2 créditos (TP) (Ps) | W14: 3 créditos (TP) (Ps) | Z14: 4 créditos (TP) (Ps)
B15: Procesos Comunicativos | E15: Cátedra Democracia y Paz | H15: Probabilidad y Estadística | K15: Fundamentos de Programación | N15: Gestión de Producción | Q15: Procesos Industriales | T15: Control y Automatización de Procesos Industriales | W15: Formulación y Evaluación de Proyectos
B17: 2 créditos (T) (Ba) | E17: 2 créditos (T) (Co) | H17: 3 créditos (T) (Ba) | K17: 3 créditos (TP) (Ps) | N17: 3 créditos (TP) (Ps) | Q17: 3 créditos (TP) (Ps) | T17: 3 créditos (TP) (Ps) | W17: 3 créditos (TP) (Ps)
B18: Desarrollo del Pensamiento Lógico Matemático | E18: Cátedra Orinoquía | H18: Ciencia, Tecnología y Desarrollo | K18: Fisicoquímica | N18: Ingeniería Económica | Q18: Logística y Distribución Industrial | T18: Curso Profundización I | W18: Curso Profundización II | Z18: Curso Profundización III
B20: 2 créditos (T) (Ba) | E20: 2 créditos (T) (Co) | H20: 2 créditos (T) (Co) | K20: 3 créditos (TP) (Ba) | N20: 3 créditos (T) (Ps) | Q20: 3 créditos (TP) (Ps) | T20: 4 créditos (TP) (Pz) | W20: 4 créditos (TP) (Pz) | Z20: 4 créditos (TP) (Pz)
B22: Créditos | C22: =+SUM(D34:D39) -> 16 | F22: =+SUM(G34:G39) -> 18 | I22: =+SUM(J34:J39) -> 18 | L22: =+SUM(M34:M39) -> 17 | O22: =+SUM(P34:P39) -> 18 | R22: =+SUM(S34:S39) -> 18 | U22: =+SUM(V34:V39) -> 18 | X22: =+SUM(Y34:Y39) -> 18 | AA22: =+SUM(AB34:AB39) -> 16
B23: Acumulados | C23: =+C22 -> 16 | E23: Acumulados | F23: =+C23+F22 -> 34 | H23: Acumulados | I23: =+F23+I22 -> 52 | K23: Acumulados | L23: =+I23+L22 -> 69 | N23: Acumulados | O23: =+L23+O22 -> 87 | Q23: Acumulados | R23: =+O23+R22 -> 105 | T23: Acumulados | U23: =+R23+U22 -> 123 | W23: Acumulados | X23: =+U23+X22 -> 141 | Z23: Acumulados | AA23: =+X23+AA22 -> 157
B24: Total créditos | C24: =SUM(C22:AA22) -> 157
B26: Convenciones:
B28: T: Teórico | E28: Ba: Básico
B29: TP: Teórico-práctico | E29: Ps: Profesional
E30: Pz: Profundización
E31: Co: Complementario
B34: =+B3 -> Cálculo Diferencial | C34: =+B5 -> 4 créditos (T) (Ba) | D34: =+VALUE(_xlfn.TEXTBEFORE(C34," ")) -> 4 | E34: =+E3 -> Cálculo Integral | F34: =+E5 -> 4 créditos (T) (Ba) | G34: =+VALUE(_xlfn.TEXTBEFORE(F34," ")) -> 4 | H34: =+H3 -> Cálculo Multivariado | I34: =+H5 -> 4 créditos (T) (Ba) | J34: =+VALUE(_xlfn.TEXTBEFORE(I34," ")) -> 4 | K34: =+K3 -> Ecuaciones Diferenciales | L34: =+K5 -> 3 créditos (T) (Ba) | M34: =+VALUE(_xlfn.TEXTBEFORE(L34," ")) -> 3 | N34: =+N3 -> Métodos Numéricos | O34: =+N5 -> 3 créditos (TP) (Ps) | P34: =+VALUE(_xlfn.TEXTBEFORE(O34," ")) -> 3 | Q34: =+Q3 -> Ingeniería de las Reacciones | R34: =+Q5 -> 3 créditos (TP) (Ps) | S34: =+VALUE(_xlfn.TEXTBEFORE(R34," ")) -> 3 | T34: =+T3 -> Ciencia de los Materiales | U34: =+T5 -> 3 créditos (TP) (Ps) | V34: =+VALUE(_xlfn.TEXTBEFORE(U34," ")) -> 3 | W34: =+W3 -> Electiva Complementaria I | X34: =+W5 -> 2 créditos (T) (Co) | Y34: =+VALUE(_xlfn.TEXTBEFORE(X34," ")) -> 2 | Z34: =+Z3 -> Electiva Complementaria II | AA34: =+Z5 -> 2 créditos (T) (Co) | AB34: =+VALUE(_xlfn.TEXTBEFORE(AA34," ")) -> 2
B35: =+B6 -> Química Básica | C35: =+B8 -> 4 créditos (TP) (Ba) | D35: =+VALUE(_xlfn.TEXTBEFORE(C35," ")) -> 4 | E35: =+E6 -> Álgebra Lineal | F35: =+E8 -> 3 créditos (T) (Ba) | G35: =+VALUE(_xlfn.TEXTBEFORE(F35," ")) -> 3 | H35: =+H6 -> Termodinámica | I35: =+H8 -> 3 créditos (TP) (Ba) | J35: =+VALUE(_xlfn.TEXTBEFORE(I35," ")) -> 3 | K35: =+K6 -> Balance de Materia y Energía | L35: =+K8 -> 3 créditos (TP) (Ps) | M35: =+VALUE(_xlfn.TEXTBEFORE(L35," ")) -> 3 | N35: =+N6 -> Transferencia de Calor | O35: =+N8 -> 3 créditos (TP) (Ps) | P35: =+VALUE(_xlfn.TEXTBEFORE(O35," ")) -> 3 | Q35: =+Q6 -> Química Inorgánica | R35: =+Q8 -> 3 créditos (TP) (Ba) | S35: =+VALUE(_xlfn.TEXTBEFORE(R35," ")) -> 3 | T35: =+T6 -> Electiva Profesional I | U35: =+T8 -> 3 créditos (TP) (Ps) | V35: =+VALUE(_xlfn.TEXTBEFORE(U35," ")) -> 3 | W35: =+W6 -> Electiva Profesional II | X35: =+W8 -> 3 créditos (TP) (Ps) | Y35: =+VALUE(_xlfn.TEXTBEFORE(X35," ")) -> 3 | Z35: =+Z6 -> Electiva Profesional III | AA35: =+Z8 -> 3 créditos (TP) (Ps) | AB35: =+VALUE(_xlfn.TEXTBEFORE(AA35," ")) -> 3
B36: =+B9 -> Dibujo Asistido por Computador | C36: =+B11 -> 2 créditos (TP) (Ps) | D36: =+VALUE(_xlfn.TEXTBEFORE(C36," ")) -> 2 | E36: =+E9 -> Química Analítica e Instrumental | F36: =+E11 -> 3 créditos (TP) (Ba) | G36: =+VALUE(_xlfn.TEXTBEFORE(F36," ")) -> 3 | H36: =+H9 -> Química Orgánica | I36: =+H11 -> 3 créditos (TP) (Ba) | J36: =+VALUE(_xlfn.TEXTBEFORE(I36," ")) -> 3 | K36: =+K9 -> Mecánica de Fluidos | L36: =+K11 -> 3 créditos (TP) (Ps) | M36: =+VALUE(_xlfn.TEXTBEFORE(L36," ")) -> 3 | N36: =+N9 -> Gestión Integrada | O36: =+N11 -> 3 créditos (T) (Ps) | P36: =+VALUE(_xlfn.TEXTBEFORE(O36," ")) -> 3 | Q36: =+Q9 -> Transferencia de Masa | R36: =+Q11 -> 3 créditos (TP) (Ps) | S36: =+VALUE(_xlfn.TEXTBEFORE(R36," ")) -> 3 | T36: =+T9 -> Operaciones Unitarias | U36: =+T11 -> 3 créditos (TP) (Ps) | V36: =+VALUE(_xlfn.TEXTBEFORE(U36," ")) -> 3 | W36: =+W9 -> Diseño de Procesos | X36: =+W11 -> 3 créditos (TP) (Ps) | Y36: =+VALUE(_xlfn.TEXTBEFORE(X36," ")) -> 3 | Z36: =+Z9 -> Simulación y Optimización de Procesos | AA36: =+Z11 -> 3 créditos (TP) (Ps) | AB36: =+VALUE(_xlfn.TEXTBEFORE(AA36," ")) -> 3
B37: =+B12 -> Introducción a la Ingeniería de Procesos | C37: =+B14 -> 2 créditos (T) (Ps) | D37: =+VALUE(_xlfn.TEXTBEFORE(C37," ")) -> 2 | E37: =+E12 -> Física Mecánica | F37: =+E14 -> 4 créditos (TP) (Ba) | G37: =+VALUE(_xlfn.TEXTBEFORE(F37," ")) -> 4 | H37: =+H12 -> Electricidad y Magnetismo | I37: =+H14 -> 3 créditos (TP) (Ba) | J37: =+VALUE(_xlfn.TEXTBEFORE(I37," ")) -> 3 | K37: =+K12 -> Diseño de Experimentos | L37: =+K14 -> 2 créditos (TP) (Ba) | M37: =+VALUE(_xlfn.TEXTBEFORE(L37," ")) -> 2 | N37: =+N12 -> Manejo de Sólidos | O37: =+N14 -> 3 créditos (TP) (Ps) | P37: =+VALUE(_xlfn.TEXTBEFORE(O37," ")) -> 3 | Q37: =+Q12 -> Procesos de Manufactura | R37: =+Q14 -> 3 créditos (TP) (Ps) | S37: =+VALUE(_xlfn.TEXTBEFORE(R37," ")) -> 3 | T37: =+T12 -> Diseño de Productos | U37: =+T14 -> 2 créditos (TP) (Ps) | V37: =+VALUE(_xlfn.TEXTBEFORE(U37," ")) -> 2 | W37: =+W12 -> Metodología de la Investigación | X37: =+W14 -> 3 créditos (TP) (Ps) | Y37: =+VALUE(_xlfn.TEXTBEFORE(X37," ")) -> 3 | Z37: =+Z12 -> Trabajo de Grado | AA37: =+Z14 -> 4 créditos (TP) (Ps) | AB37: =+VALUE(_xlfn.TEXTBEFORE(AA37," ")) -> 4
B38: =+B15 -> Procesos Comunicativos | C38: =+B17 -> 2 créditos (T) (Ba) | D38: =+VALUE(_xlfn.TEXTBEFORE(C38," ")) -> 2 | E38: =+E15 -> Cátedra Democracia y Paz | F38: =+E17 -> 2 créditos (T) (Co) | G38: =+VALUE(_xlfn.TEXTBEFORE(F38," ")) -> 2 | H38: =+H15 -> Probabilidad y Estadística | I38: =+H17 -> 3 créditos (T) (Ba) | J38: =+VALUE(_xlfn.TEXTBEFORE(I38," ")) -> 3 | K38: =+K15 -> Fundamentos de Programación | L38: =+K17 -> 3 créditos (TP) (Ps) | M38: =+VALUE(_xlfn.TEXTBEFORE(L38," ")) -> 3 | N38: =+N15 -> Gestión de Producción | O38: =+N17 -> 3 créditos (TP) (Ps) | P38: =+VALUE(_xlfn.TEXTBEFORE(O38," ")) -> 3 | Q38: =+Q15 -> Procesos Industriales | R38: =+Q17 -> 3 créditos (TP) (Ps) | S38: =+VALUE(_xlfn.TEXTBEFORE(R38," ")) -> 3 | T38: =+T15 -> Control y Automatización de Procesos Industriales | U38: =+T17 -> 3 créditos (TP) (Ps) | V38: =+VALUE(_xlfn.TEXTBEFORE(U38," ")) -> 3 | W38: =+W15 -> Formulación y Evaluación de Proyectos | X38: =+W17 -> 3 créditos (TP) (Ps) | Y38: =+VALUE(_xlfn.TEXTBEFORE(X38," ")) -> 3 | Z38: =+Z15 -> 0 | AA38: =+Z17 -> 0
B39: =+B18 -> Desarrollo del Pensamiento Lógico Matemático | C39: =+B20 -> 2 créditos (T) (Ba) | D39: =+VALUE(_xlfn.TEXTBEFORE(C39," ")) -> 2 | E39: =+E18 -> Cátedra Orinoquía | F39: =+E20 -> 2 créditos (T) (Co) | G39: =+VALUE(_xlfn.TEXTBEFORE(F39," ")) -> 2 | H39: =+H18 -> Ciencia, Tecnología y Desarrollo | I39: =+H20 -> 2 créditos (T) (Co) | J39: =+VALUE(_xlfn.TEXTBEFORE(I39," ")) -> 2 | K39: =+K18 -> Fisicoquímica | L39: =+K20 -> 3 créditos (TP) (Ba) | M39: =+VALUE(_xlfn.TEXTBEFORE(L39," ")) -> 3 | N39: =+N18 -> Ingeniería Económica | O39: =+N20 -> 3 créditos (T) (Ps) | P39: =+VALUE(_xlfn.TEXTBEFORE(O39," ")) -> 3 | Q39: =+Q18 -> Logística y Distribución Industrial | R39: =+Q20 -> 3 créditos (TP) (Ps) | S39: =+VALUE(_xlfn.TEXTBEFORE(R39," ")) -> 3 | T39: =+T18 -> Curso Profundización I | U39: =+T20 -> 4 créditos (TP) (Pz) | V39: =+VALUE(_xlfn.TEXTBEFORE(U39," ")) -> 4 | W39: =+W18 -> Curso Profundización II | X39: =+W20 -> 4 créditos (TP) (Pz) | Y39: =+VALUE(_xlfn.TEXTBEFORE(X39," ")) -> 4 | Z39: =+Z18 -> Curso Profundización III | AA39: =+Z20 -> 4 créditos (TP) (Pz) | AB39: =+VALUE(_xlfn.TEXTBEFORE(AA39," ")) -> 4

Sheet Presentación malla
B1: 1 Semestre | E1: 2 Semestre | H1: 3 Semestre | K1: 4 Semestre | N1: 5 Semestre | Q1: 6 Semestre | T1: 7 Semestre | W1: 8 Semestre | Z1: 9 Semestre
B3: =+'Malla curricular'!B3 -> Cálculo Diferencial | E3: =+'Malla curricular'!E3 -> Cálculo Integral | H3: =+'Malla curricular'!H3 -> Cálculo Multivariado | K3: =+'Malla curricular'!K3 -> Ecuaciones Diferenciales | N3: =+'Malla curricular'!N3 -> Métodos Numéricos | Q3: =+'Malla curricular'!Q3 -> Ingeniería de las Reacciones | T3: =+'Malla curricular'!T3 -> Ciencia de los Materiales | W3: =+'Malla curricular'!W3 -> Electiva Complementaria I | Z3: =+'Malla curricular'!Z3 -> Electiva Complementaria II
B5: =+'Malla curricular'!B5 -> 4 créditos (T) (Ba) | E5: =+'Malla curricular'!E5 -> 4 créditos (T) (Ba) | H5: =+'Malla curricular'!H5 -> 4 créditos (T) (Ba) | K5: =+'Malla curricular'!K5 -> 3 créditos (T) (Ba) | N5: =+'Malla curricular'!N5 -> 3 créditos (TP) (Ps) | Q5: =+'Malla curricular'!Q5 -> 3 créditos (TP) (Ps) | T5: =+'Malla curricular'!T5 -> 3 créditos (TP) (Ps) | W5: =+'Malla curricular'!W5 -> 2 créditos (T) (Co) | Z5: =+'Malla curricular'!Z5 -> 2 créditos (T) (Co)
B7: =+'Malla curricular'!B6 -> Química Básica | E7: =+'Malla curricular'!E6 -> Álgebra Lineal | H7: =+'Malla curricular'!H6 -> Termodinámica | K7: =+'Malla curricular'!K6 -> Balance de Materia y Energía | N7: =+'Malla curricular'!N6 -> Transferencia de Calor | Q7: =+'Malla curricular'!Q6 -> Química Inorgánica | T7: =+'Malla curricular'!T6 -> Electiva Profesional I | W7: =+'Malla curricular'!W6 -> Electiva Profesional II | Z7: =+'Malla curricular'!Z6 -> Electiva Profesional III
B9: =+'Malla curricular'!B8 -> 4 créditos (TP) (Ba) | E9: =+'Malla curricular'!E8 -> 3 créditos (T) (Ba) | H9: =+'Malla curricular'!H8 -> 3 créditos (TP) (Ba) | K9: =+'Malla curricular'!K8 -> 3 créditos (TP) (Ps) | N9: =+'Malla curricular'!N8 -> 3 créditos (TP) (Ps) | Q9: =+'Malla curricular'!Q8 -> 3 créditos (TP) (Ba) | T9: =+'Malla curricular'!T8 -> 3 créditos (TP) (Ps) | W9: =+'Malla curricular'!W8 -> 3 créditos (TP) (Ps) | Z9: =+'Malla curricular'!Z8 -> 3 créditos (TP) (Ps)
B11: =+'Malla curricular'!B9 -> Dibujo Asistido por Computador | E11: =+'Malla curricular'!E9 -> Química Analítica e Instrumental | H11: =+'Malla curricular'!H9 -> Química Orgánica | K11: =+'Malla curricular'!K9 -> Mecánica de Fluidos | N11: =+'Malla curricular'!N9 -> Gestión Integrada | Q11: =+'Malla curricular'!Q9 -> Transferencia de Masa | T11: =+'Malla curricular'!T9 -> Operaciones Unitarias | W11: =+'Malla curricular'!W9 -> Diseño de Procesos | Z11: =+'Malla curricular'!Z9 -> Simulación y Optimización de Procesos
B13: =+'Malla curricular'!B11 -> 2 créditos (TP) (Ps) | E13: =+'Malla curricular'!E11 -> 3 créditos (TP) (Ba) | H13: =+'Malla curricular'!H11 -> 3 créditos (TP) (Ba) | K13: =+'Malla curricular'!K11 -> 3 créditos (TP) (Ps) | N13: =+'Malla curricular'!N11 -> 3 créditos (T) (Ps) | Q13: =+'Malla curricular'!Q11 -> 3 créditos (TP) (Ps) | T13: =+'Malla curricular'!T11 -> 3 créditos (TP) (Ps) | W13: =+'Malla curricular'!W11 -> 3 créditos (TP) (Ps) | Z13: =+'Malla curricular'!Z11 -> 3 créditos (TP) (Ps)
B15: =+'Malla curricular'!B12 -> Introducción a la Ingeniería de Procesos | E15: =+'Malla curricular'!E12 -> Física Mecánica | H15: =+'Malla curricular'!H12 -> Electricidad y Magnetismo | K15: =+'Malla curricular'!K12 -> Diseño de Experimentos | N15: =+'Malla curricular'!N12 -> Manejo de Sólidos | Q15: =+'Malla curricular'!Q12 -> Procesos de Manufactura | T15: =+'Malla curricular'!T12 -> Diseño de Productos | W15: =+'Malla curricular'!W12 -> Metodología de la Investigación | Z15: =+'Malla curricular'!Z12 -> Trabajo de Grado
B17: =+'Malla curricular'!B14 -> 2 créditos (T) (Ps) | E17: =+'Malla curricular'!E14 -> 4 créditos (TP) (Ba) | H17: =+'Malla curricular'!H14 -> 3 créditos (TP) (Ba) | K17: =+'Malla curricular'!K14 -> 2 créditos (TP) (Ba) | N17: =+'Malla curricular'!N14 -> 3 créditos (TP) (Ps) | Q17: =+'Malla curricular'!Q14 -> 3 créditos (TP) (Ps) | T17: =+'Malla curricular'!T14 -> 2 créditos (TP) (Ps) | W17: =+'Malla curricular'!W14 -> 3 créditos (TP) (Ps) | Z17: =+'Malla curricular'!Z14 -> 4 créditos (TP) (Ps)
B19: =+'Malla curricular'!B15 -> Procesos Comunicativos | E19: =+'Malla curricular'!E15 -> Cátedra Democracia y Paz | H19: =+'Malla curricular'!H15 -> Probabilidad y Estadística | K19: =+'Malla curricular'!K15 -> Fundamentos de Programación | N19: =+'Malla curricular'!N15 -> Gestión de Producción | Q19: =+'Malla curricular'!Q15 -> Procesos Industriales | T19: =+'Malla curricular'!T15 -> Control y Automatización de Procesos Industriales | W19: =+'Malla curricular'!W15 -> Formulación y Evaluación de Proyectos
B21: =+'Malla curricular'!B17 -> 2 créditos (T) (Ba) | E21: =+'Malla curricular'!E17 -> 2 créditos (T) (Co) | H21: =+'Malla curricular'!H17 -> 3 créditos (T) (Ba) | K21: =+'Malla curricular'!K17 -> 3 créditos (TP) (Ps) | N21: =+'Malla curricular'!N17 -> 3 créditos (TP) (Ps) | Q21: =+'Malla curricular'!Q17 -> 3 créditos (TP) (Ps) | T21: =+'Malla curricular'!T17 -> 3 créditos (TP) (Ps) | W21: =+'Malla curricular'!W17 -> 3 créditos (TP) (Ps)
B23: =+'Malla curricular'!B18 -> Desarrollo del Pensamiento Lógico Matemático | E23: =+'Malla curricular'!E18 -> Cátedra Orinoquía | H23: =+'Malla curricular'!H18 -> Ciencia, Tecnología y Desarrollo | K23: =+'Malla curricular'!K18 -> Fisicoquímica | N23: =+'Malla curricular'!N18 -> Ingeniería Económica | Q23: =+'Malla curricular'!Q18 -> Logística y Distribución Industrial | T23: =+'Malla curricular'!T18 -> Curso Profundización I | W23: =+'Malla curricular'!W18 -> Curso Profundización II | Z23: =+'Malla curricular'!Z18 -> Curso Profundización III
B25: =+'Malla curricular'!B20 -> 2 créditos (T) (Ba) | E25: =+'Malla curricular'!E20 -> 2 créditos (T) (Co) | H25: =+'Malla curricular'!H20 -> 2 créditos (T) (Co) | K25: =+'Malla curricular'!K20 -> 3 créditos (TP) (Ba) | N25: =+'Malla curricular'!N20 -> 3 créditos (T) (Ps) | Q25: =+'Malla curricular'!Q20 -> 3 créditos (TP) (Ps) | T25: =+'Malla curricular'!T20 -> 4 créditos (TP) (Pz) | W25: =+'Malla curricular'!W20 -> 4 créditos (TP) (Pz) | Z25: =+'Malla curricular'!Z20 -> 4 créditos (TP) (Pz)
B27: Créditos | C27: =+SUM(D39:D44) -> 16 | F27: =+SUM(G39:G44) -> 18 | I27: =+SUM(J39:J44) -> 18 | L27: =+SUM(M39:M44) -> 17 | O27: =+SUM(P39:P44) -> 18 | R27: =+SUM(S39:S44) -> 18 | U27: =+SUM(V39:V44) -> 16 | X27: =+SUM(Y39:Y44) -> 18 | AA27: =+SUM(AB39:AB44) -> 16
B28: Acumulados | C28: =+C27 -> 16 | E28: Acumulados | F28: =+C28+F27 -> 34 | H28: Acumulados | I28: =+F28+I27 -> 52 | K28: Acumulados | L28: =+I28+L27 -> 69 | N28: Acumulados | O28: =+L28+O27 -> 87 | Q28: Acumulados | R28: =+O28+R27 -> 105 | T28: Acumulados | U28: =+R28+U27 -> 121 | W28: Acumulados | X28: =+U28+X27 -> 139 | Z28: Acumulados | AA28: =+X28+AA27 -> 155
B29: Total créditos | C29: =SUM(C27:AA27) -> 155
B31: Convenciones:
G32: Cursos | H32: Créditos
B33: T: Teórico | E33: Ba: Básico | G33: =+'Base de datos'!C59 -> 17 | H33: =+'Base de datos'!E59 -> 53
B34: TP: Teórico-práctico | E34: Ps: Profesional | G34: =+'Base de datos'!C60 -> 28 | H34: =+'Base de datos'!E60 -> 82
E35: Pz: Profundización | G35: =+'Base de datos'!C61 -> 3 | H35: =+'Base de datos'!E61 -> 12
E36: Co: Complementario | G36: =+'Base de datos'!C62 -> 5 | H36: =+'Base de datos'!E62 -> 10
E37: Total | G37: =+SUM(G33:G36) -> 53 | H37: =+SUM(H33:H36) -> 157
B39: =+B3 -> Cálculo Diferencial | C39: =+B5 -> 4 créditos (T) (Ba) | D39: =+VALUE(_xlfn.TEXTBEFORE(C39," ")) -> 4 | E39: =+E3 -> Cálculo Integral | F39: =+E5 -> 4 créditos (T) (Ba) | G39: =+VALUE(_xlfn.TEXTBEFORE(F39," ")) -> 4 | H39: =+H3 -> Cálculo Multivariado | I39: =+H5 -> 4 créditos (T) (Ba) | J39: =+VALUE(_xlfn.TEXTBEFORE(I39," ")) -> 4 | K39: =+K3 -> Ecuaciones Diferenciales | L39: =+K5 -> 3 créditos (T) (Ba) | M39: =+VALUE(_xlfn.TEXTBEFORE(L39," ")) -> 3 | N39: =+N3 -> Métodos Numéricos | O39: =+N5 -> 3 créditos (TP) (Ps) | P39: =+VALUE(_xlfn.TEXTBEFORE(O39," ")) -> 3 | Q39: =+Q3 -> Ingeniería de las Reacciones | R39: =+Q5 -> 3 créditos (TP) (Ps) | S39: =+VALUE(_xlfn.TEXTBEFORE(R39," ")) -> 3 | T39: =+T3 -> Ciencia de los Materiales | U39: =+T5 -> 3 créditos (TP) (Ps) | V39: =+VALUE(_xlfn.TEXTBEFORE(U39," ")) -> 3 | W39: =+W3 -> Electiva Complementaria I | X39: =+W5 -> 2 créditos (T) (Co) | Y39: =+VALUE(_xlfn.TEXTBEFORE(X39," ")) -> 2 | Z39: =+Z3 -> Electiva Complementaria II | AA39: =+Z5 -> 2 créditos (T) (Co) | AB39: =+VALUE(_xlfn.TEXTBEFORE(AA39," ")) -> 2
B40: =+B7 -> Química Básica | C40: =+B9 -> 4 créditos (TP) (Ba) | D40: =+VALUE(_xlfn.TEXTBEFORE(C40," ")) -> 4 | E40: =+E7 -> Álgebra Lineal | F40: =+E9 -> 3 créditos (T) (Ba) | G40: =+VALUE(_xlfn.TEXTBEFORE(F40," ")) -> 3 | H40: =+H7 -> Termodinámica | I40: =+H9 -> 3 créditos (TP) (Ba) | J40: =+VALUE(_xlfn.TEXTBEFORE(I40," ")) -> 3 | K40: =+K7 -> Balance de Materia y Energía | L40: =+K9 -> 3 créditos (TP) (Ps) | M40: =+VALUE(_xlfn.TEXTBEFORE(L40," ")) -> 3 | N40: =+N7 -> Transferencia de Calor | O40: =+N9 -> 3 créditos (TP) (Ps) | P40: =+VALUE(_xlfn.TEXTBEFORE(O40," ")) -> 3 | Q40: =+Q7 -> Química Inorgánica | R40: =+Q9 -> 3 créditos (TP) (Ba) | S40: =+VALUE(_xlfn.TEXTBEFORE(R40," ")) -> 3 | T40: =+T7 -> Electiva Profesional I | U40: =+T9 -> 3 créditos (TP) (Ps) | V40: =+VALUE(_xlfn.TEXTBEFORE(U40," ")) -> 3 | W40: =+W7 -> Electiva Profesional II | X40: =+W9 -> 3 créditos (TP) (Ps) | Y40: =+VALUE(_xlfn.TEXTBEFORE(X40," ")) -> 3 | Z40: =+Z7 -> Electiva Profesional III | AA40: =+Z9 -> 3 créditos (TP) (Ps) | AB40: =+VALUE(_xlfn.TEXTBEFORE(AA40," ")) -> 3
B41: =+B11 -> Dibujo Asistido por Computador | C41: =+B13 -> 2 créditos (TP) (Ps) | D41: =+VALUE(_xlfn.TEXTBEFORE(C41," ")) -> 2 | E41: =+E11 -> Química Analítica e Instrumental | F41: =+E13 -> 3 créditos (TP) (Ba) | G41: =+VALUE(_xlfn.TEXTBEFORE(F41," ")) -> 3 | H41: =+H11 -> Química Orgánica | I41: =+H13 -> 3 créditos (TP) (Ba) | J41: =+VALUE(_xlfn.TEXTBEFORE(I41," ")) -> 3 | K41: =+K11 -> Mecánica de Fluidos | L41: =+K13 -> 3 créditos (TP) (Ps) | M41: =+VALUE(_xlfn.TEXTBEFORE(L41," ")) -> 3 | N41: =+N11 -> Gestión Integrada | O41: =+N13 -> 3 créditos (T) (Ps) | P41: =+VALUE(_xlfn.TEXTBEFORE(O41," ")) -> 3 | Q41: =+Q11 -> Transferencia de Masa | R41: =+Q13 -> 3 créditos (TP) (Ps) | S41: =+VALUE(_xlfn.TEXTBEFORE(R41," ")) -> 3 | T41: =+T11 -> Operaciones Unitarias | U41: =+T13 -> 3 créditos (TP) (Ps) | V41: =+VALUE(_xlfn.TEXTBEFORE(U41," ")) -> 3 | W41: =+W11 -> Diseño de Procesos | X41: =+W13 -> 3 créditos (TP) (Ps) | Y41: =+VALUE(_xlfn.TEXTBEFORE(X41," ")) -> 3 | Z41: =+Z11 -> Simulación y Optimización de Procesos | AA41: =+Z13 -> 3 créditos (TP) (Ps) | AB41: =+VALUE(_xlfn.TEXTBEFORE(AA41," ")) -> 3
B42: =+B15 -> Introducción a la Ingeniería de Procesos | C42: =+B17 -> 2 créditos (T) (Ps) | D42: =+VALUE(_xlfn.TEXTBEFORE(C42," ")) -> 2 | E42: =+E15 -> Física Mecánica | F42: =+E17 -> 4 créditos (TP) (Ba) | G42: =+VALUE(_xlfn.TEXTBEFORE(F42," ")) -> 4 | H42: =+H15 -> Electricidad y Magnetismo | I42: =+H17 -> 3 créditos (TP) (Ba) | J42: =+VALUE(_xlfn.TEXTBEFORE(I42," ")) -> 3 | K42: =+K15 -> Diseño de Experimentos | L42: =+K17 -> 2 créditos (TP) (Ba) | M42: =+VALUE(_xlfn.TEXTBEFORE(L42," ")) -> 2 | N42: =+N15 -> Manejo de Sólidos | O42: =+N17 -> 3 créditos (TP) (Ps) | P42: =+VALUE(_xlfn.TEXTBEFORE(O42," ")) -> 3 | Q42: =+Q15 -> Procesos de Manufactura | R42: =+Q17 -> 3 créditos (TP) (Ps) | S42: =+VALUE(_xlfn.TEXTBEFORE(R42," ")) -> 3 | T42: =+T15 -> Diseño de Productos | U42: =+T17 -> 2 créditos (TP) (Ps) | W42: =+W15 -> Metodología de la Investigación | X42: =+W17 -> 3 créditos (TP) (Ps) | Y42: =+VALUE(_xlfn.TEXTBEFORE(X42," ")) -> 3 | Z42: =+Z15 -> Trabajo de Grado | AA42: =+Z17 -> 4 créditos (TP) (Ps) | AB42: =+VALUE(_xlfn.TEXTBEFORE(AA42," ")) -> 4
B43: =+B19 -> Procesos Comunicativos | C43: =+B21 -> 2 créditos (T) (Ba) | D43: =+VALUE(_xlfn.TEXTBEFORE(C43," ")) -> 2 | E43: =+E19 -> Cátedra Democracia y Paz | F43: =+E21 -> 2 créditos (T) (Co) | G43: =+VALUE(_xlfn.TEXTBEFORE(F43," ")) -> 2 | H43: =+H19 -> Probabilidad y Estadística | I43: =+H21 -> 3 créditos (T) (Ba) | J43: =+VALUE(_xlfn.TEXTBEFORE(I43," ")) -> 3 | K43: =+K19 -> Fundamentos de Programación | L43: =+K21 -> 3 créditos (TP) (Ps) | M43: =+VALUE(_xlfn.TEXTBEFORE(L43," ")) -> 3 | N43: =+N19 -> Gestión de Producción | O43: =+N21 -> 3 créditos (TP) (Ps) | P43: =+VALUE(_xlfn.TEXTBEFORE(O43," ")) -> 3 | Q43: =+Q19 -> Procesos Industriales | R43: =+Q21 -> 3 créditos (TP) (Ps) | S43: =+VALUE(_xlfn.TEXTBEFORE(R43," ")) -> 3 | T43: =+T19 -> Control y Automatización de Procesos Industriales | U43: =+T21 -> 3 créditos (TP) (Ps) | V43: =+VALUE(_xlfn.TEXTBEFORE(U43," ")) -> 3 | W43: =+W19 -> Formulación y Evaluación de Proyectos | X43: =+W21 -> 3 créditos (TP) (Ps) | Y43: =+VALUE(_xlfn.TEXTBEFORE(X43," ")) -> 3 | Z43: =+Z19 -> 0 | AA43: =+Z21 -> 0
B44: =+B23 -> Desarrollo del Pensamiento Lógico Matemático | C44: =+B25 -> 2 créditos (T) (Ba) | D44: =+VALUE(_xlfn.TEXTBEFORE(C44," ")) -> 2 | E44: =+E23 -> Cátedra Orinoquía | F44: =+E25 -> 2 créditos (T) (Co) | G44: =+VALUE(_xlfn.TEXTBEFORE(F44," ")) -> 2 | H44: =+H23 -> Ciencia, Tecnología y Desarrollo | I44: =+H25 -> 2 créditos (T) (Co) | J44: =+VALUE(_xlfn.TEXTBEFORE(I44," ")) -> 2 | K44: =+K23 -> Fisicoquímica | L44: =+K25 -> 3 créditos (TP) (Ba) | M44: =+VALUE(_xlfn.TEXTBEFORE(L44," ")) -> 3 | N44: =+N23 -> Ingeniería Económica | O44: =+N25 -> 3 créditos (T) (Ps) | P44: =+VALUE(_xlfn.TEXTBEFORE(O44," ")) -> 3 | Q44: =+Q23 -> Logística y Distribución Industrial | R44: =+Q25 -> 3 créditos (TP) (Ps) | S44: =+VALUE(_xlfn.TEXTBEFORE(R44," ")) -> 3 | T44: =+T23 -> Curso Profundización I | U44: =+T25 -> 4 créditos (TP) (Pz) | V44: =+VALUE(_xlfn.TEXTBEFORE(U44," ")) -> 4 | W44: =+W23 -> Curso Profundización II | X44: =+W25 -> 4 créditos (TP) (Pz) | Y44: =+VALUE(_xlfn.TEXTBEFORE(X44," ")) -> 4 | Z44: =+Z23 -> Curso Profundización III | AA44: =+Z25 -> 4 créditos (TP) (Pz) | AB44: =+VALUE(_xlfn.TEXTBEFORE(AA44," ")) -> 4

Sheet Matriz
A1: Tabla XX Plan de Estudios – Ingeniería xxx 2025
A2: PLAN DE ESTUDIOS - INGENIERÍA XXXXX 2025
A3: No. de Curso | B3: Curso | D3: Créditos | H3: Horas de Trabajo Académico | K3: Áreas o Componentes de Formación del Currículo | O3: Número Máximo de Estudiantes Matriculados o Proyectados
C4: Tipo de curso (T, TP o P) | D4: Cursos Obligatorios | E4: Cursos Libres | F4: Créditos Académicos | G4: Relación Crédito Académico | H4: Horas de Trabajo Directo | I4: Horas de Trabajo Independiente | J4: Horas de Trabajo Totales | K4: Básica | L4: Profesional | M4: Profundización/Investigación | N4: Complementaria
A5: I SEMESTRE
A6: 1 | B6: =+'Base de datos'!B2 -> Cálculo Diferencial | C6: =+'Base de datos'!F2 -> (T) | D6: 1 | F6: =+'Base de datos'!J2 -> 4 | G6: 1:1 | H6: 96 | I6: 96 | J6: =+SUM(H6:I6) -> 192 | K6: =+F6 -> 4 | O6: 48
A7: 2 | B7: =+'Base de datos'!B3 -> Química Básica | C7: =+'Base de datos'!F3 -> (TP) | D7: 1 | F7: =+'Base de datos'!J3 -> 4 | G7: 1:1 | H7: 96 | I7: 96 | J7: =+SUM(H7:I7) -> 192 | K7: =+F7 -> 4
A8: 3 | B8: =+'Base de datos'!B4 -> Dibujo Asistido por Computador | C8: =+'Base de datos'!F4 -> (TP) | D8: 1 | F8: =+'Base de datos'!J4 -> 2 | G8: 1:1 | H8: 48 | I8: 48 | J8: =+SUM(H8:I8) -> 96 | L8: =+F8 -> 2
A9: 4 | B9: =+'Base de datos'!B5 -> Introducción a la Ingeniería de Procesos | C9: =+'Base de datos'!F5 -> (T) | D9: 1 | F9: =+'Base de datos'!J5 -> 2 | G9: 1:1 | H9: 48 | I9: 48 | J9: =+SUM(H9:I9) -> 96 | L9: =+F9 -> 2
A10: 5 | B10: =+'Base de datos'!B6 -> Procesos Comunicativos | C10: =+'Base de datos'!F6 -> (T) | D10: 1 | F10: =+'Base de datos'!J6 -> 2 | G10: 1:1 | H10: 48 | I10: 48 | J10: =+SUM(H10:I10) -> 96 | K10: =+F10 -> 2
A11: 6 | B11: =+'Base de datos'!B7 -> Desarrollo del Pensamiento Lógico Matemático | C11: =+'Base de datos'!F7 -> (T) | D11: 1 | F11: =+'Base de datos'!J7 -> 2 | G11: 1:1 | H11: 48 | I11: 48 | J11: =+SUM(H11:I11) -> 96 | K11: =+F11 -> 2
B12: Total Semestre | D12: =+SUM(D6:D11) -> 6 | E12: =+SUM(E6:E11) -> 0 | F12: =+SUM(F6:F11) -> 16 | H12: =+SUM(H6:H11) -> 384 | I12: =+SUM(I6:I11) -> 384 | J12: =+SUM(J6:J11) -> 768 | K12: =+SUM(K6:K11) -> 12 | L12: =+SUM(L6:L11) -> 4 | M12: =+SUM(M6:M11) -> 0 | N12: =+SUM(N6:N11) -> 0
A13: II SEMESTRE
A14: 7 | B14: =+'Base de datos'!B8 -> Cálculo Integral | C14: =+'Base de datos'!F8 -> (T) | D14: 1 | F14: =+'Base de datos'!J8 -> 4 | G14: 1:1 | H14: 96 | I14: 96 | J14: =+SUM(H14:I14) -> 192 | K14: =+F14 -> 4 | O14: 48
A15: 8 | B15: =+'Base de datos'!B9 -> Álgebra Lineal | C15: =+'Base de datos'!F9 -> (T) | D15: 1 | F15: =+'Base de datos'!J9 -> 3 | G15: 1:1 | H15: 72 | I15: 72 | J15: =+SUM(H15:I15) -> 144 | K15: =+F15 -> 3
A16: 9 | B16: =+'Base de datos'!B10 -> Química Analítica e Instrumental | C16: =+'Base de datos'!F10 -> (TP) | D16: 1 | F16: =+'Base de datos'!J10 -> 3 | G16: 1:1 | H16: 72 | I16: 72 | J16: =+SUM(H16:I16) -> 144 | K16: =+F16 -> 3
A17: 10 | B17: =+'Base de datos'!B11 -> Física Mecánica | C17: =+'Base de datos'!F11 -> (TP) | D17: 1 | F17: =+'Base de datos'!J11 -> 4 | G17: 1:1 | H17: 96 | I17: 96 | J17: =+SUM(H17:I17) -> 192 | K17: =+F17 -> 4
A18: 11 | B18: =+'Base de datos'!B12 -> Cátedra Democracia y Paz | C18: =+'Base de datos'!F12 -> (T) | D18: 1 | F18: =+'Base de datos'!J12 -> 2 | G18: 1:2 | H18: 32 | I18: 64 | J18: =+SUM(H18:I18) -> 96 | N18: =+F18 -> 2
A19: 12 | B19: =+'Base de datos'!B13 -> Cátedra Orinoquía | C19: =+'Base de datos'!F13 -> (T) | D19: 1 | F19: =+'Base de datos'!J13 -> 2 | G19: 1:2 | H19: 32 | I19: 64 | J19: =+SUM(H19:I19) -> 96 | N19: =+F19 -> 2
B20: Total Semestre | D20: =+SUM(D14:D19) -> 6 | E20: =+SUM(E14:E19) -> 0 | F20: =+SUM(F14:F19) -> 18 | H20: =+SUM(H14:H19) -> 400 | I20: =+SUM(I14:I19) -> 464 | J20: =+SUM(J14:J19) -> 864 | K20: =+SUM(K14:K19) -> 14 | L20: =+SUM(L14:L19) -> 0 | M20: =+SUM(M14:M19) -> 0 | N20: =+SUM(N14:N19) -> 4
B21: III SEMESTRE
A22: 13 | B22: =+'Base de datos'!B14 -> Cálculo Multivariado | C22: =+'Base de datos'!F14 -> (T) | D22: 1 | F22: =+'Base de datos'!J14 -> 4 | G22: 1:1 | H22: 96 | I22: 96 | J22: =+SUM(H22:I22) -> 192 | K22: =+F22 -> 4 | O22: 48
A23: 14 | B23: =+'Base de datos'!B15 -> Termodinámica | C23: =+'Base de datos'!F15 -> (TP) | D23: 1 | F23: =+'Base de datos'!J15 -> 3 | G23: 1:1 | H23: 72 | I23: 72 | J23: =+SUM(H23:I23) -> 144 | K23: =+F23 -> 3
A24: 15 | B24: =+'Base de datos'!B16 -> Química Orgánica | C24: =+'Base de datos'!F16 -> (TP) | D24: 1 | F24: =+'Base de datos'!J16 -> 3 | G24: 1:1 | H24: 72 | I24: 72 | J24: =+SUM(H24:I24) -> 144 | K24: =+F24 -> 3
A25: 16 | B25: =+'Base de datos'!B17 -> Electricidad y Magnetismo | C25: =+'Base de datos'!F17 -> (TP) | D25: 1 | F25: =+'Base de datos'!J17 -> 3 | G25: 1:1 | H25: 72 | I25: 72 | J25: =+SUM(H25:I25) -> 144 | K25: =+F25 -> 3
A26: 17 | B26: =+'Base de datos'!B18 -> Probabilidad y Estadística | C26: =+'Base de datos'!F18 -> (T) | D26: 1 | F26: =+'Base de datos'!J18 -> 3 | G26: 1:1 | H26: 72 | I26: 72 | J26: =+SUM(H26:I26) -> 144 | K26: =+F26 -> 3
A27: 18 | B27: =+'Base de datos'!B19 -> Ciencia, Tecnología y Desarrollo | C27: =+'Base de datos'!F19 -> (T) | D27: 1 | F27: =+'Base de datos'!J19 -> 2 | G27: 1:2 | H27: 32 | I27: 64 | J27: =+SUM(H27:I27) -> 96 | N27: =+F27 -> 2
B28: Total Semestre | D28: =+SUM(D22:D27) -> 6 | E28: =+SUM(E22:E27) -> 0 | F28: =+SUM(F22:F27) -> 18 | H28: =+SUM(H22:H27) -> 416 | I28: =+SUM(I22:I27) -> 448 | J28: =+SUM(J22:J27) -> 864 | K28: =+SUM(K22:K27) -> 16 | L28: =+SUM(L22:L27) -> 0 | M28: =+SUM(M22:M27) -> 0 | N28: =+SUM(N22:N27) -> 2
B29: IV SEMESTRE
A30: 19 | B30: =+'Base de datos'!B20 -> Ecuaciones Diferenciales | C30: =+'Base de datos'!F20 -> (T) | D30: 1 | F30: =+'Base de datos'!J20 -> 3 | G30: 1:1 | H30: 72 | I30: 72 | J30: =+SUM(H30:I30) -> 144 | K30: =+F30 -> 3 | O30: 48
A31: 20 | B31: =+'Base de datos'!B21 -> Balance de Materia y Energía | C31: =+'Base de datos'!F21 -> (TP) | D31: 1 | F31: =+'Base de datos'!J21 -> 3 | G31: 1:1 | H31: 72 | I31: 72 | J31: =+SUM(H31:I31) -> 144 | L31: =+F31 -> 3
A32: 21 | B32: =+'Base de datos'!B22 -> Mecánica de Fluidos | C32: =+'Base de datos'!F22 -> (TP) | D32: 1 | F32: =+'Base de datos'!J22 -> 3 | G32: 1:1 | H32: 72 | I32: 72 | J32: =+SUM(H32:I32) -> 144 | L32: =+F32 -> 3
A33: 22 | B33: =+'Base de datos'!B23 -> Diseño de Experimentos | C33: =+'Base de datos'!F23 -> (TP) | D33: 1 | F33: =+'Base de datos'!J23 -> 2 | G33: 1:1 | H33: 48 | I33: 48 | J33: =+SUM(H33:I33) -> 96 | K33: =+F33 -> 2
A34: 23 | B34: =+'Base de datos'!B24 -> Fundamentos de Programación | C34: =+'Base de datos'!F24 -> (TP) | D34: 1 | F34: =+'Base de datos'!J24 -> 3 | G34: 1:1 | H34: 72 | I34: 72 | J34: =+SUM(H34:I34) -> 144 | L34: =+F34 -> 3
A35: 24 | B35: =+'Base de datos'!B25 -> Fisicoquímica | C35: =+'Base de datos'!F25 -> (TP) | D35: 1 | F35: =+'Base de datos'!J25 -> 3 | G35: 1:1 | H35: 72 | I35: 72 | J35: =+SUM(H35:I35) -> 144 | K35: =+F35 -> 3
B36: Total Semestre | D36: =+SUM(D30:D35) -> 6 | E36: =+SUM(E30:E35) -> 0 | F36: =+SUM(F30:F35) -> 17 | H36: =+SUM(H30:H35) -> 408 | I36: =+SUM(I30:I35) -> 408 | J36: =+SUM(J30:J35) -> 816 | K36: =+SUM(K30:K35) -> 8 | L36: =+SUM(L30:L35) -> 9 | M36: =+SUM(M30:M35) -> 0 | N36: =+SUM(N30:N35) -> 0
B37: V SEMESTRE
A38: 25 | B38: =+'Base de datos'!B26 -> Métodos Numéricos | C38: =+'Base de datos'!F26 -> (TP) | D38: 1 | F38: =+'Base de datos'!J26 -> 3 | G38: 1:1 | H38: 72 | I38: 72 | J38: =+SUM(H38:I38) -> 144 | L38: =+F38 -> 3 | O38: 48
A39: 26 | B39: =+'Base de datos'!B27 -> Transferencia de Calor | C39: =+'Base de datos'!F27 -> (TP) | D39: 1 | F39: =+'Base de datos'!J27 -> 3 | G39: 1:1 | H39: 72 | I39: 72 | J39: =+SUM(H39:I39) -> 144 | L39: =+F39 -> 3
A40: 27 | B40: =+'Base de datos'!B28 -> Gestión Integrada | C40: =+'Base de datos'!F28 -> (T) | D40: 1 | F40: =+'Base de datos'!J28 -> 3 | G40: 1:1 | H40: 72 | I40: 72 | J40: =+SUM(H40:I40) -> 144 | L40: =+F40 -> 3
A41: 28 | B41: =+'Base de datos'!B29 -> Manejo de Sólidos | C41: =+'Base de datos'!F29 -> (TP) | D41: 1 | F41: =+'Base de datos'!J29 -> 3 | G41: 1:1 | H41: 72 | I41: 72 | J41: =+SUM(H41:I41) -> 144 | L41: =+F41 -> 3
A42: 29 | B42: =+'Base de datos'!B30 -> Gestión de Producción | C42: =+'Base de datos'!F30 -> (TP) | D42: 1 | F42: =+'Base de datos'!J30 -> 3 | G42: 1:1 | H42: 72 | I42: 72 | J42: =+SUM(H42:I42) -> 144 | L42: =+F42 -> 3
A43: 30 | B43: =+'Base de datos'!B31 -> Ingeniería Económica | C43: =+'Base de datos'!F31 -> (T) | D43: 1 | F43: =+'Base de datos'!J31 -> 3 | G43: 1:1 | H43: 72 | I43: 72 | J43: =+SUM(H43:I43) -> 144 | L43: =+F43 -> 3
B44: Total Semestre | D44: =+SUM(D38:D43) -> 6 | E44: =+SUM(E38:E43) -> 0 | F44: =+SUM(F38:F43) -> 18 | H44: =+SUM(H38:H43) -> 432 | I44: =+SUM(I38:I43) -> 432 | J44: =+SUM(J38:J43) -> 864 | K44: =+SUM(K38:K43) -> 0 | L44: =+SUM(L38:L43) -> 18 | M44: =+SUM(M38:M43) -> 0 | N44: =+SUM(N38:N43) -> 0
B45: VI SEMESTRE
A46: 31 | B46: =+'Base de datos'!B32 -> Ingeniería de las Reacciones | C46: =+'Base de datos'!F32 -> (TP) | D46: 1 | F46: =+'Base de datos'!J32 -> 3 | G46: 1:1 | H46: 72 | I46: 72 | J46: =+SUM(H46:I46) -> 144 | L46: =+F46 -> 3 | O46: 48
A47: 32 | B47: =+'Base de datos'!B33 -> Química Inorgánica | C47: =+'Base de datos'!F33 -> (TP) | D47: 1 | F47: =+'Base de datos'!J33 -> 3 | G47: 1:1 | H47: 72 | I47: 72 | J47: =+SUM(H47:I47) -> 144 | K47: 3
A48: 33 | B48: =+'Base de datos'!B34 -> Transferencia de Masa | C48: =+'Base de datos'!F34 -> (TP) | D48: 1 | F48: =+'Base de datos'!J34 -> 3 | G48: 1:1 | H48: 72 | I48: 72 | J48: =+SUM(H48:I48) -> 144 | L48: =+F48 -> 3
A49: 34 | B49: =+'Base de datos'!B35 -> Procesos de Manufactura | C49: =+'Base de datos'!F35 -> (TP) | D49: 1 | F49: =+'Base de datos'!J35 -> 3 | G49: 1:1 | H49: 72 | I49: 72 | J49: =+SUM(H49:I49) -> 144 | L49: =+F49 -> 3
A50: 35 | B50: =+'Base de datos'!B36 -> Procesos Industriales | C50: =+'Base de datos'!F36 -> (TP) | D50: 1 | F50: =+'Base de datos'!J36 -> 3 | G50: 1:1 | H50: 96 | I50: 96 | J50: =+SUM(H50:I50) -> 192 | L50: =+F50 -> 3
A51: 36 | B51: =+'Base de datos'!B37 -> Logística y Distribución Industrial | C51: =+'Base de datos'!F37 -> (TP) | D51: 1 | F51: =+'Base de datos'!J37 -> 3 | G51: 1:1 | H51: 72 | I51: 72 | J51: =+SUM(H51:I51) -> 144 | L51: =+F51 -> 3
B52: Total Semestre | D52: =+SUM(D46:D51) -> 6 | E52: =+SUM(E46:E51) -> 0 | F52: =+SUM(F46:F51) -> 18 | H52: =+SUM(H46:H51) -> 456 | I52: =+SUM(I46:I51) -> 456 | J52: =+SUM(J46:J51) -> 912 | K52: =+SUM(K46:K51) -> 3 | L52: =+SUM(L46:L51) -> 15 | M52: =+SUM(M46:M51) -> 0 | N52: =+SUM(N46:N51) -> 0
B53: VII SEMESTRE
A54: 37 | B54: =+'Base de datos'!B38 -> Ciencia de los Materiales | C54: =+'Base de datos'!F38 -> (TP) | D54: 1 | F54: =+'Base de datos'!J38 -> 3 | G54: 1:1 | H54: 96 | I54: 96 | J54: =+SUM(H54:I54) -> 192 | L54: =+F54 -> 3 | O54: 48
A55: 38 | B55: =+'Base de datos'!B39 -> Electiva Profesional I | C55: =+'Base de datos'!F39 -> (TP) | E55: 1 | F55: =+'Base de datos'!J39 -> 3 | G55: 1:1 | H55: 72 | I55: 72 | J55: =+SUM(H55:I55) -> 144 | L55: =+F55 -> 3
A56: 39 | B56: =+'Base de datos'!B40 -> Operaciones Unitarias | C56: =+'Base de datos'!F40 -> (TP) | D56: 1 | F56: =+'Base de datos'!J40 -> 3 | G56: 1:1 | H56: 72 | I56: 72 | J56: =+SUM(H56:I56) -> 144 | L56: =+F56 -> 3
A57: 40 | B57: =+'Base de datos'!B41 -> Diseño de Productos | C57: =+'Base de datos'!F41 -> (TP) | D57: 1 | F57: =+'Base de datos'!J41 -> 2 | G57: 1:1 | H57: 48 | I57: 48 | J57: =+SUM(H57:I57) -> 96 | L57: =+F57 -> 2
A58: 41 | B58: =+'Base de datos'!B42 -> Control y Automatización de Procesos Industriales | C58: =+'Base de datos'!F42 -> (TP) | D58: 1 | F58: =+'Base de datos'!J42 -> 3 | G58: 1:1 | H58: 72 | I58: 72 | J58: =+SUM(H58:I58) -> 144 | L58: =+F58 -> 3
A59: 42 | B59: =+'Base de datos'!B43 -> Curso Profundización I | C59: =+'Base de datos'!F43 -> (TP) | E59: 1 | F59: =+'Base de datos'!J43 -> 4 | G59: 1:1 | H59: 96 | I59: 96 | J59: =+SUM(H59:I59) -> 192 | M59: =+F59 -> 4
B60: Total Semestre | D60: =+SUM(D54:D59) -> 4 | E60: =+SUM(E54:E59) -> 2 | F60: =+SUM(F54:F59) -> 18 | H60: =+SUM(H54:H59) -> 456 | I60: =+SUM(I54:I59) -> 456 | J60: =+SUM(J54:J59) -> 912 | K60: =+SUM(K54:K59) -> 0 | L60: =+SUM(L54:L59) -> 14 | M60: =+SUM(M54:M59) -> 4 | N60: =+SUM(N54:N59) -> 0
B61: VIII SEMESTRE
A62: 43 | B62: =+'Base de datos'!B44 -> Electiva Complementaria I | C62: =+'Base de datos'!F44 -> (T) | E62: 1 | F62: =+'Base de datos'!J44 -> 2 | G62: 1:2 | H62: 32 | I62: 64 | J62: =+SUM(H62:I62) -> 96 | N62: =+F62 -> 2 | O62: 48
A63: 44 | B63: =+'Base de datos'!B45 -> Electiva Profesional II | C63: =+'Base de datos'!F45 -> (TP) | E63: 1 | F63: =+'Base de datos'!J45 -> 3 | G63: 1:1 | H63: 72 | I63: 72 | J63: =+SUM(H63:I63) -> 144 | L63: =+F63 -> 3
A64: 45 | B64: =+'Base de datos'!B46 -> Diseño de Procesos | C64: =+'Base de datos'!F46 -> (TP) | D64: 1 | F64: =+'Base de datos'!J46 -> 3 | G64: 1:1 | H64: 72 | I64: 72 | J64: =+SUM(H64:I64) -> 144 | L64: =+F64 -> 3
A65: 46 | B65: =+'Base de datos'!B47 -> Metodología de la Investigación | C65: =+'Base de datos'!F47 -> (TP) | D65: 1 | F65: =+'Base de datos'!J47 -> 3 | G65: 1:2 | H65: 48 | I65: 96 | J65: =+SUM(H65:I65) -> 144 | L65: =+F65 -> 3
A66: 47 | B66: =+'Base de datos'!B48 -> Formulación y Evaluación de Proyectos | C66: =+'Base de datos'!F48 -> (TP) | D66: 1 | F66: =+'Base de datos'!J48 -> 3 | G66: 1:1 | H66: 72 | I66: 72 | J66: =+SUM(H66:I66) -> 144 | L66: =+F66 -> 3
A67: 48 | B67: =+'Base de datos'!B49 -> Curso Profundización II | C67: =+'Base de datos'!F49 -> (TP) | E67: 1 | F67: =+'Base de datos'!J49 -> 4 | G67: 1:1 | H67: 96 | I67: 96 | J67: =+SUM(H67:I67) -> 192 | M67: =+F67 -> 4
B68: Total Semestre | D68: =+SUM(D62:D67) -> 3 | E68: =+SUM(E62:E67) -> 3 | F68: =+SUM(F62:F67) -> 18 | H68: =+SUM(H62:H67) -> 392 | I68: =+SUM(I62:I67) -> 472 | J68: =+SUM(J62:J67) -> 864 | K68: =+SUM(K62:K67) -> 0 | L68: =+SUM(L62:L67) -> 12 | M68: =+SUM(M62:M67) -> 4 | N68: =+SUM(N62:N67) -> 2
B69: IX SEMESTRE
A70: 49 | B70: =+'Base de datos'!B50 -> Electiva Complementaria II | C70: =+'Base de datos'!F50 -> (T) | E70: 1 | F70: =+'Base de datos'!J50 -> 2 | G70: 1:2 | H70: 32 | I70: 64 | J70: =+SUM(H70:I70) -> 96 | N70: =+F70 -> 2 | O70: 48
A71: 50 | B71: =+'Base de datos'!B51 -> Electiva Profesional III | C71: =+'Base de datos'!F51 -> (TP) | E71: 1 | F71: =+'Base de datos'!J51 -> 3 | G71: 1:1 | H71: 72 | I71: 72 | J71: =+SUM(H71:I71) -> 144 | L71: =+F71 -> 3
A72: 51 | B72: =+'Base de datos'!B52 -> Simulación y Optimización de Procesos | C72: =+'Base de datos'!F52 -> (TP) | D72: 1 | F72: =+'Base de datos'!J52 -> 3 | G72: 1:1 | H72: 72 | I72: 72 | J72: =+SUM(H72:I72) -> 144 | L72: =+F72 -> 3
A73: 52 | B73: =+'Base de datos'!B53 -> Trabajo de Grado | C73: =+'Base de datos'!F53 -> (TP) | D73: 1 | F73: =+'Base de datos'!J53 -> 4 | G73: 1:2 | H73: 64 | I73: 128 | J73: =+SUM(H73:I73) -> 192 | L73: =+F73 -> 4
A74: 53 | B74: =+'Base de datos'!B55 -> Curso Profundización III | C74: =+'Base de datos'!F55 -> (TP) | E74: 1 | F74: =+'Base de datos'!J55 -> 4 | G74: 1:1 | H74: 96 | I74: 96 | J74: =+SUM(H74:I74) -> 192 | M74: =+F74 -> 4
B75: Total Semestre | D75: =+SUM(D70:D74) -> 2 | E75: =+SUM(E70:E74) -> 3 | F75: =+SUM(F70:F74) -> 16 | H75: =+SUM(H70:H74) -> 336 | I75: =+SUM(I70:I74) -> 432 | J75: =+SUM(J70:J74) -> 768 | K75: =+SUM(K70:K74) -> 0 | L75: =+SUM(L70:L74) -> 10 | M75: =+SUM(M70:M74) -> 4 | N75: =+SUM(N70:N74) -> 2
B77: Total de cursos | D77: =+D12+D20+D28+D36+D44+D52+D60+D68+D75 -> 45 | E77: =+E12+E20+E28+E36+E44+E52+E60+E68+E75 -> 8 | K77: =+COUNT(K6:K11,K14:K19,K22:K27,K30:K35,K38:K43,K46:K51,K54:K59,K62:K67,K70:K74) -> 17 | L77: =+COUNT(L6:L11,L14:L19,L22:L27,L30:L35,L38:L43,L46:L51,L54:L59,L62:L67,L70:L74) -> 28 | M77: =+COUNT(M6:M11,M14:M19,M22:M27,M30:M35,M38:M43,M46:M51,M54:M59,M62:M67,M70:M74) -> 3 | N77: =+COUNT(N6:N11,N14:N19,N22:N27,N30:N35,N38:N43,N46:N51,N54:N59,N62:N67,N70:N74) -> 5
B78: PLAN DE ESTUDIOS | D78: =+D77+E77 -> 53 | K78: =(K77*100)/D78 -> 32.075472 | L78: =(L77*100)/D78 -> 52.830189 | M78: =(M77*100)/D78 -> 5.6603774 | N78: =(N77*100)/D78 -> 9.4339623
B79: Total Número de horas | H79: =(H75+H68+H60+H52+H44+H36+H28+H20+H12) -> 3680 | I79: =(I75+I68+I60+I52+I44+I36+I28+I20+I12) -> 3952 | J79: =(J75+J68+J60+J52+J44+J36+J28+J20+J12) -> 7632
B80: PLAN DE ESTUDIOS
B81: Total Porcentaje Horas (%) | H81: =(H79*100)/J79 -> 48.218029 | I81: =(I79*100)/J79 -> 51.781971 | J81: =(J79*100)/J79 -> 100
B82: Total Número Créditos del Programa | F82: =(F75+F68+F60+F52+F44+F36+F28+F20+F12) -> 157 | K82: =+K12+K20+K28+K36+K44+K52+K60+K68+K75 -> 53 | L82: =+L12+L20+L28+L36+L44+L52+L60+L68+L75 -> 82 | M82: =+M12+M20+M28+M36+M44+M52+M60+M68+M75 -> 12 | N82: =+N12+N20+N28+N36+N44+N52+N60+N68+N75 -> 10
B83: Total Porcentaje Créditos (%) | F83: 100 | K83: =(K82*100)/F82 -> 33.757962 | L83: =(L82*100)/F82 -> 52.229299 | M83: =(M82*100)/F82 -> 7.6433121 | N83: =(N82*100)/F82 -> 6.3694268

Sheet Base de datos
A1: Semestre | B1: Curso | D1: Créditos | E1: Descripción | F1: Tipo | G1: Área | H1: Requisitos | I1: Requisitos | J1: Créditos | K1: Descripción | L1: Tipo | M1: Área | N1: Cursos Obligatorios | O1: Cursos Electivas | P1: Créditos obligatorios | Q1: Créditos electivos
A2: 1 | B2: =+'Malla curricular'!B34 -> Cálculo Diferencial | C2: =+'Malla curricular'!C34 -> 4 créditos (T) (Ba) | D2: {=_xlfn.TEXTSPLIT(C2," ")} -> 4 | E2: créditos | F2: (T) | G2: (Ba) | J2: =+VALUE(D2) -> 4 | K2: créditos | L2: =+F2 -> (T) | M2: =+G2 -> (Ba) | N2: 1 | P2: =+IF(N2=1,J2,"") -> 4 | Q2: =+IF(O2=1,J2,"")
A3: 1 | B3: =+'Malla curricular'!B35 -> Química Básica | C3: =+'Malla curricular'!C35 -> 4 créditos (TP) (Ba) | D3: {=_xlfn.TEXTSPLIT(C3," ")} -> 4 | E3: créditos | F3: (TP) | G3: (Ba) | J3: =+VALUE(D3) -> 4 | K3: créditos | L3: =+F3 -> (TP) | M3: =+G3 -> (Ba) | N3: 1 | P3: =+IF(N3=1,J3,"") -> 4 | Q3: =+IF(O3=1,J3,"")
A4: 1 | B4: =+'Malla curricular'!B36 -> Dibujo Asistido por Computador | C4: =+'Malla curricular'!C36 -> 2 créditos (TP) (Ps) | D4: {=_xlfn.TEXTSPLIT(C4," ")} -> 2 | E4: créditos | F4: (TP) | G4: (Ps) | J4: =+VALUE(D4) -> 2 | K4: créditos | L4: =+F4 -> (TP) | M4: =+G4 -> (Ps) | N4: 1 | P4: =+IF(N4=1,J4,"") -> 2 | Q4: =+IF(O4=1,J4,"")
A5: 1 | B5: =+'Malla curricular'!B37 -> Introducción a la Ingeniería de Procesos | C5: =+'Malla curricular'!C37 -> 2 créditos (T) (Ps) | D5: {=_xlfn.TEXTSPLIT(C5," ")} -> 2 | E5: créditos | F5: (T) | G5: (Ps) | J5: =+VALUE(D5) -> 2 | K5: créditos | L5: =+F5 -> (T) | M5: =+G5 -> (Ps) | N5: 1 | P5: =+IF(N5=1,J5,"") -> 2 | Q5: =+IF(O5=1,J5,"")
A6: 1 | B6: =+'Malla curricular'!B38 -> Procesos Comunicativos | C6: =+'Malla curricular'!C38 -> 2 créditos (T) (Ba) | D6: {=_xlfn.TEXTSPLIT(C6," ")} -> 2 | E6: créditos | F6: (T) | G6: (Ba) | J6: =+VALUE(D6) -> 2 | K6: créditos | L6: =+F6 -> (T) | M6: =+G6 -> (Ba) | N6: 1 | P6: =+IF(N6=1,J6,"") -> 2 | Q6: =+IF(O6=1,J6,"")
A7: 1 | B7: =+'Malla curricular'!B39 -> Desarrollo del Pensamiento Lógico Matemático | C7: =+'Malla curricular'!C39 -> 2 créditos (T) (Ba) | D7: {=_xlfn.TEXTSPLIT(C7," ")} -> 2 | E7: créditos | F7: (T) | G7: (Ba) | J7: =+VALUE(D7) -> 2 | K7: créditos | L7: =+F7 -> (T) | M7: =+G7 -> (Ba) | N7: 1 | P7: =+IF(N7=1,J7,"") -> 2 | Q7: =+IF(O7=1,J7,"")
A8: 2 | B8: =+'Malla curricular'!E34 -> Cálculo Integral | C8: =+'Malla curricular'!F34 -> 4 créditos (T) (Ba) | D8: {=_xlfn.TEXTSPLIT(C8," ")} -> 4 | E8: créditos | F8: (T) | G8: (Ba) | H8: =+B2 -> Cálculo Diferencial | J8: =+VALUE(D8) -> 4 | K8: créditos | L8: =+F8 -> (T) | M8: =+G8 -> (Ba) | N8: 1 | P8: =+IF(N8=1,J8,"") -> 4 | Q8: =+IF(O8=1,J8,"")
A9: 2 | B9: =+'Malla curricular'!E35 -> Álgebra Lineal | C9: =+'Malla curricular'!F35 -> 3 créditos (T) (Ba) | D9: {=_xlfn.TEXTSPLIT(C9," ")} -> 3 | E9: créditos | F9: (T) | G9: (Ba) | J9: =+VALUE(D9) -> 3 | K9: créditos | L9: =+F9 -> (T) | M9: =+G9 -> (Ba) | N9: 1 | P9: =+IF(N9=1,J9,"") -> 3 | Q9: =+IF(O9=1,J9,"")
A10: 2 | B10: =+'Malla curricular'!E36 -> Química Analítica e Instrumental | C10: =+'Malla curricular'!F36 -> 3 créditos (TP) (Ba) | D10: {=_xlfn.TEXTSPLIT(C10," ")} -> 3 | E10: créditos | F10: (TP) | G10: (Ba) | H10: =+B3 -> Química Básica | J10: =+VALUE(D10) -> 3 | K10: créditos | L10: =+F10 -> (TP) | M10: =+G10 -> (Ba) | N10: 1 | P10: =+IF(N10=1,J10,"") -> 3 | Q10: =+IF(O10=1,J10,"")
A11: 2 | B11: =+'Malla curricular'!E37 -> Física Mecánica | C11: =+'Malla curricular'!F37 -> 4 créditos (TP) (Ba) | D11: {=_xlfn.TEXTSPLIT(C11," ")} -> 4 | E11: créditos | F11: (TP) | G11: (Ba) | J11: =+VALUE(D11) -> 4 | K11: créditos | L11: =+F11 -> (TP) | M11: =+G11 -> (Ba) | N11: 1 | P11: =+IF(N11=1,J11,"") -> 4 | Q11: =+IF(O11=1,J11,"")
A12: 2 | B12: =+'Malla curricular'!E38 -> Cátedra Democracia y Paz | C12: =+'Malla curricular'!F38 -> 2 créditos (T) (Co) | D12: {=_xlfn.TEXTSPLIT(C12," ")} -> 2 | E12: créditos | F12: (T) | G12: (Co) | J12: =+VALUE(D12) -> 2 | K12: créditos | L12: =+F12 -> (T) | M12: =+G12 -> (Co) | N12: 1 | P12: =+IF(N12=1,J12,"") -> 2 | Q12: =+IF(O12=1,J12,"")
A13: 2 | B13: =+'Malla curricular'!E39 -> Cátedra Orinoquía | C13: =+'Malla curricular'!F39 -> 2 créditos (T) (Co) | D13: {=_xlfn.TEXTSPLIT(C13," ")} -> 2 | E13: créditos | F13: (T) | G13: (Co) | J13: =+VALUE(D13) -> 2 | K13: créditos | L13: =+F13 -> (T) | M13: =+G13 -> (Co) | N13: 1 | P13: =+IF(N13=1,J13,"") -> 2 | Q13: =+IF(O13=1,J13,"")
A14: 3 | B14: =+'Malla curricular'!H34 -> Cálculo Multivariado | C14: =+'Malla curricular'!I34 -> 4 créditos (T) (Ba) | D14: {=_xlfn.TEXTSPLIT(C14," ")} -> 4 | E14: créditos | F14: (T) | G14: (Ba) | H14: =+B8 -> Cálculo Integral | J14: =+VALUE(D14) -> 4 | K14: créditos | L14: =+F14 -> (T) | M14: =+G14 -> (Ba) | N14: 1 | P14: =+IF(N14=1,J14,"") -> 4 | Q14: =+IF(O14=1,J14,"")
A15: 3 | B15: =+'Malla curricular'!H35 -> Termodinámica | C15: =+'Malla curricular'!I35 -> 3 créditos (TP) (Ba) | D15: {=_xlfn.TEXTSPLIT(C15," ")} -> 3 | E15: créditos | F15: (TP) | G15: (Ba) | H15: =+B11 -> Física Mecánica | J15: =+VALUE(D15) -> 3 | K15: créditos | L15: =+F15 -> (TP) | M15: =+G15 -> (Ba) | N15: 1 | P15: =+IF(N15=1,J15,"") -> 3 | Q15: =+IF(O15=1,J15,"")
A16: 3 | B16: =+'Malla curricular'!H36 -> Química Orgánica | C16: =+'Malla curricular'!I36 -> 3 créditos (TP) (Ba) | D16: {=_xlfn.TEXTSPLIT(C16," ")} -> 3 | E16: créditos | F16: (TP) | G16: (Ba) | H16: =+B10 -> Química Analítica e Instrumental | J16: =+VALUE(D16) -> 3 | K16: créditos | L16: =+F16 -> (TP) | M16: =+G16 -> (Ba) | N16: 1 | P16: =+IF(N16=1,J16,"") -> 3 | Q16: =+IF(O16=1,J16,"")
A17: 3 | B17: =+'Malla curricular'!H37 -> Electricidad y Magnetismo | C17: =+'Malla curricular'!I37 -> 3 créditos (TP) (Ba) | D17: {=_xlfn.TEXTSPLIT(C17," ")} -> 3 | E17: créditos | F17: (TP) | G17: (Ba) | H17: =+B11 -> Física Mecánica | J17: =+VALUE(D17) -> 3 | K17: créditos | L17: =+F17 -> (TP) | M17: =+G17 -> (Ba) | N17: 1 | P17: =+IF(N17=1,J17,"") -> 3 | Q17: =+IF(O17=1,J17,"")
A18: 3 | B18: =+'Malla curricular'!H38 -> Probabilidad y Estadística | C18: =+'Malla curricular'!I38 -> 3 créditos (T) (Ba) | D18: {=_xlfn.TEXTSPLIT(C18," ")} -> 3 | E18: créditos | F18: (T) | G18: (Ba) | J18: =+VALUE(D18) -> 3 | K18: créditos | L18: =+F18 -> (T) | M18: =+G18 -> (Ba) | N18: 1 | P18: =+IF(N18=1,J18,"") -> 3 | Q18: =+IF(O18=1,J18,"")
A19: 3 | B19: =+'Malla curricular'!H39 -> Ciencia, Tecnología y Desarrollo | C19: =+'Malla curricular'!I39 -> 2 créditos (T) (Co) | D19: {=_xlfn.TEXTSPLIT(C19," ")} -> 2 | E19: créditos | F19: (T) | G19: (Co) | J19: =+VALUE(D19) -> 2 | K19: créditos | L19: =+F19 -> (T) | M19: =+G19 -> (Co) | N19: 1 | P19: =+IF(N19=1,J19,"") -> 2 | Q19: =+IF(O19=1,J19,"")
A20: 4 | B20: =+'Malla curricular'!K34 -> Ecuaciones Diferenciales | C20: =+'Malla curricular'!L34 -> 3 créditos (T) (Ba) | D20: {=_xlfn.TEXTSPLIT(C20," ")} -> 3 | E20: créditos | F20: (T) | G20: (Ba) | H20: =+B14 -> Cálculo Multivariado | J20: =+VALUE(D20) -> 3 | K20: créditos | L20: =+F20 -> (T) | M20: =+G20 -> (Ba) | N20: 1 | P20: =+IF(N20=1,J20,"") -> 3 | Q20: =+IF(O20=1,J20,"")
A21: 4 | B21: =+'Malla curricular'!K35 -> Balance de Materia y Energía | C21: =+'Malla curricular'!L35 -> 3 créditos (TP) (Ps) | D21: {=_xlfn.TEXTSPLIT(C21," ")} -> 3 | E21: créditos | F21: (TP) | G21: (Ps) | H21: =+B8 -> Cálculo Integral | I21: =+B15 -> Termodinámica | J21: =+VALUE(D21) -> 3 | K21: créditos | L21: =+F21 -> (TP) | M21: =+G21 -> (Ps) | N21: 1 | P21: =+IF(N21=1,J21,"") -> 3 | Q21: =+IF(O21=1,J21,"")
A22: 4 | B22: =+'Malla curricular'!K36 -> Mecánica de Fluidos | C22: =+'Malla curricular'!L36 -> 3 créditos (TP) (Ps) | D22: {=_xlfn.TEXTSPLIT(C22," ")} -> 3 | E22: créditos | F22: (TP) | G22: (Ps) | H22: =+B11 -> Física Mecánica | J22: =+VALUE(D22) -> 3 | K22: créditos | L22: =+F22 -> (TP) | M22: =+G22 -> (Ps) | N22: 1 | P22: =+IF(N22=1,J22,"") -> 3 | Q22: =+IF(O22=1,J22,"")
A23: 4 | B23: =+'Malla curricular'!K37 -> Diseño de Experimentos | C23: =+'Malla curricular'!L37 -> 2 créditos (TP) (Ba) | D23: {=_xlfn.TEXTSPLIT(C23," ")} -> 2 | E23: créditos | F23: (TP) | G23: (Ba) | H23: =+B18 -> Probabilidad y Estadística | J23: =+VALUE(D23) -> 2 | K23: créditos | L23: =+F23 -> (TP) | M23: =+G23 -> (Ba) | N23: 1 | P23: =+IF(N23=1,J23,"") -> 2 | Q23: =+IF(O23=1,J23,"")
A24: 4 | B24: =+'Malla curricular'!K38 -> Fundamentos de Programación | C24: =+'Malla curricular'!L38 -> 3 créditos (TP) (Ps) | D24: {=_xlfn.TEXTSPLIT(C24," ")} -> 3 | E24: créditos | F24: (TP) | G24: (Ps) | J24: =+VALUE(D24) -> 3 | K24: créditos | L24: =+F24 -> (TP) | M24: =+G24 -> (Ps) | N24: 1 | P24: =+IF(N24=1,J24,"") -> 3 | Q24: =+IF(O24=1,J24,"")
A25: 4 | B25: =+'Malla curricular'!K39 -> Fisicoquímica | C25: =+'Malla curricular'!L39 -> 3 créditos (TP) (Ba) | D25: {=_xlfn.TEXTSPLIT(C25," ")} -> 3 | E25: créditos | F25: (TP) | G25: (Ba) | H25: =+B15 -> Termodinámica | J25: =+VALUE(D25) -> 3 | K25: créditos | L25: =+F25 -> (TP) | M25: =+G25 -> (Ba) | N25: 1 | P25: =+IF(N25=1,J25,"") -> 3 | Q25: =+IF(O25=1,J25,"")
A26: 5 | B26: =+'Malla curricular'!N34 -> Métodos Numéricos | C26: =+'Malla curricular'!O34 -> 3 créditos (TP) (Ps) | D26: {=_xlfn.TEXTSPLIT(C26," ")} -> 3 | E26: créditos | F26: (TP) | G26: (Ps) | J26: =+VALUE(D26) -> 3 | K26: créditos | L26: =+F26 -> (TP) | M26: =+G26 -> (Ps) | N26: 1 | P26: =+IF(N26=1,J26,"") -> 3 | Q26: =+IF(O26=1,J26,"")
A27: 5 | B27: =+'Malla curricular'!N35 -> Transferencia de Calor | C27: =+'Malla curricular'!O35 -> 3 créditos (TP) (Ps) | D27: {=_xlfn.TEXTSPLIT(C27," ")} -> 3 | E27: créditos | F27: (TP) | G27: (Ps) | H27: =+B21 -> Balance de Materia y Energía | I27: =+B22 -> Mecánica de Fluidos | J27: =+VALUE(D27) -> 3 | K27: créditos | L27: =+F27 -> (TP) | M27: =+G27 -> (Ps) | N27: 1 | P27: =+IF(N27=1,J27,"") -> 3 | Q27: =+IF(O27=1,J27,"")
A28: 5 | B28: =+'Malla curricular'!N36 -> Gestión Integrada | C28: =+'Malla curricular'!O36 -> 3 créditos (T) (Ps) | D28: {=_xlfn.TEXTSPLIT(C28," ")} -> 3 | E28: créditos | F28: (T) | G28: (Ps) | J28: =+VALUE(D28) -> 3 | K28: créditos | L28: =+F28 -> (T) | M28: =+G28 -> (Ps) | N28: 1 | P28: =+IF(N28=1,J28,"") -> 3 | Q28: =+IF(O28=1,J28,"")
A29: 5 | B29: =+'Malla curricular'!N37 -> Manejo de Sólidos | C29: =+'Malla curricular'!O37 -> 3 créditos (TP) (Ps) | D29: {=_xlfn.TEXTSPLIT(C29," ")} -> 3 | E29: créditos | F29: (TP) | G29: (Ps) | J29: =+VALUE(D29) -> 3 | K29: créditos | L29: =+F29 -> (TP) | M29: =+G29 -> (Ps) | N29: 1 | P29: =+IF(N29=1,J29,"") -> 3 | Q29: =+IF(O29=1,J29,"")
A30: 5 | B30: =+'Malla curricular'!N38 -> Gestión de Producción | C30: =+'Malla curricular'!O38 -> 3 créditos (TP) (Ps) | D30: {=_xlfn.TEXTSPLIT(C30," ")} -> 3 | E30: créditos | F30: (TP) | G30: (Ps) | J30: =+VALUE(D30) -> 3 | K30: créditos | L30: =+F30 -> (TP) | M30: =+G30 -> (Ps) | N30: 1 | P30: =+IF(N30=1,J30,"") -> 3 | Q30: =+IF(O30=1,J30,"")
A31: 5 | B31: =+'Malla curricular'!N39 -> Ingeniería Económica | C31: =+'Malla curricular'!O39 -> 3 créditos (T) (Ps) | D31: {=_xlfn.TEXTSPLIT(C31," ")} -> 3 | E31: créditos | F31: (T) | G31: (Ps) | J31: =+VALUE(D31) -> 3 | K31: créditos | L31: =+F31 -> (T) | M31: =+G31 -> (Ps) | N31: 1 | P31: =+IF(N31=1,J31,"") -> 3 | Q31: =+IF(O31=1,J31,"")
A32: 6 | B32: =+'Malla curricular'!Q34 -> Ingeniería de las Reacciones | C32: =+'Malla curricular'!R34 -> 3 créditos (TP) (Ps) | D32: {=_xlfn.TEXTSPLIT(C32," ")} -> 3 | E32: créditos | F32: (TP) | G32: (Ps) | J32: =+VALUE(D32) -> 3 | K32: créditos | L32: =+F32 -> (TP) | M32: =+G32 -> (Ps) | N32: 1 | P32: =+IF(N32=1,J32,"") -> 3 | Q32: =+IF(O32=1,J32,"")
A33: 6 | B33: =+'Malla curricular'!Q35 -> Química Inorgánica | C33: =+'Malla curricular'!R35 -> 3 créditos (TP) (Ba) | D33: {=_xlfn.TEXTSPLIT(C33," ")} -> 3 | E33: créditos | F33: (TP) | G33: (Ba) | J33: =+VALUE(D33) -> 3 | K33: créditos | L33: =+F33 -> (TP) | M33: =+G33 -> (Ba) | N33: 1 | P33: =+IF(N33=1,J33,"") -> 3 | Q33: =+IF(O33=1,J33,"")
A34: 6 | B34: =+'Malla curricular'!Q36 -> Transferencia de Masa | C34: =+'Malla curricular'!R36 -> 3 créditos (TP) (Ps) | D34: {=_xlfn.TEXTSPLIT(C34," ")} -> 3 | E34: créditos | F34: (TP) | G34: (Ps) | H34: =+B21 -> Balance de Materia y Energía | J34: =+VALUE(D34) -> 3 | K34: créditos | L34: =+F34 -> (TP) | M34: =+G34 -> (Ps) | N34: 1 | P34: =+IF(N34=1,J34,"") -> 3 | Q34: =+IF(O34=1,J34,"")
A35: 6 | B35: =+'Malla curricular'!Q37 -> Procesos de Manufactura | C35: =+'Malla curricular'!R37 -> 3 créditos (TP) (Ps) | D35: {=_xlfn.TEXTSPLIT(C35," ")} -> 3 | E35: créditos | F35: (TP) | G35: (Ps) | J35: =+VALUE(D35) -> 3 | K35: créditos | L35: =+F35 -> (TP) | M35: =+G35 -> (Ps) | N35: 1 | P35: =+IF(N35=1,J35,"") -> 3 | Q35: =+IF(O35=1,J35,"")
A36: 6 | B36: =+'Malla curricular'!Q38 -> Procesos Industriales | C36: =+'Malla curricular'!R38 -> 3 créditos (TP) (Ps) | D36: {=_xlfn.TEXTSPLIT(C36," ")} -> 3 | E36: créditos | F36: (TP) | G36: (Ps) | J36: =+VALUE(D36) -> 3 | K36: créditos | L36: =+F36 -> (TP) | M36: =+G36 -> (Ps) | N36: 1 | P36: =+IF(N36=1,J36,"") -> 3 | Q36: =+IF(O36=1,J36,"")
A37: 6 | B37: =+'Malla curricular'!Q39 -> Logística y Distribución Industrial | C37: =+'Malla curricular'!R39 -> 3 créditos (TP) (Ps) | D37: {=_xlfn.TEXTSPLIT(C37," ")} -> 3 | E37: créditos | F37: (TP) | G37: (Ps) | J37: =+VALUE(D37) -> 3 | K37: créditos | L37: =+F37 -> (TP) | M37: =+G37 -> (Ps) | N37: 1 | P37: =+IF(N37=1,J37,"") -> 3 | Q37: =+IF(O37=1,J37,"")
A38: 7 | B38: =+'Malla curricular'!T34 -> Ciencia de los Materiales | C38: =+'Malla curricular'!U34 -> 3 créditos (TP) (Ps) | D38: {=_xlfn.TEXTSPLIT(C38," ")} -> 3 | E38: créditos | F38: (TP) | G38: (Ps) | J38: =+VALUE(D38) -> 3 | K38: créditos | L38: =+F38 -> (TP) | M38: =+G38 -> (Ps) | N38: 1 | P38: =+IF(N38=1,J38,"") -> 3 | Q38: =+IF(O38=1,J38,"")
A39: 7 | B39: =+'Malla curricular'!T35 -> Electiva Profesional I | C39: =+'Malla curricular'!U35 -> 3 créditos (TP) (Ps) | D39: {=_xlfn.TEXTSPLIT(C39," ")} -> 3 | E39: créditos | F39: (TP) | G39: (Ps) | J39: =+VALUE(D39) -> 3 | K39: créditos | L39: =+F39 -> (TP) | M39: =+G39 -> (Ps) | O39: 1 | P39: =+IF(N39=1,J39,"") | Q39: =+IF(O39=1,J39,"") -> 3
A40: 7 | B40: =+'Malla curricular'!T36 -> Operaciones Unitarias | C40: =+'Malla curricular'!U36 -> 3 créditos (TP) (Ps) | D40: {=_xlfn.TEXTSPLIT(C40," ")} -> 3 | E40: créditos | F40: (TP) | G40: (Ps) | H40: =+B34 -> Transferencia de Masa | J40: =+VALUE(D40) -> 3 | K40: créditos | L40: =+F40 -> (TP) | M40: =+G40 -> (Ps) | N40: 1 | P40: =+IF(N40=1,J40,"") -> 3 | Q40: =+IF(O40=1,J40,"")
A41: 7 | B41: =+'Malla curricular'!T37 -> Diseño de Productos | C41: =+'Malla curricular'!U37 -> 2 créditos (TP) (Ps) | D41: {=_xlfn.TEXTSPLIT(C41," ")} -> 2 | E41: créditos | F41: (TP) | G41: (Ps) | J41: =+VALUE(D41) -> 2 | K41: créditos | L41: =+F41 -> (TP) | M41: =+G41 -> (Ps) | N41: 1 | P41: =+IF(N41=1,J41,"") -> 2 | Q41: =+IF(O41=1,J41,"")
A42: 7 | B42: =+'Malla curricular'!T38 -> Control y Automatización de Procesos Industriales | C42: =+'Malla curricular'!U38 -> 3 créditos (TP) (Ps) | D42: {=_xlfn.TEXTSPLIT(C42," ")} -> 3 | E42: créditos | F42: (TP) | G42: (Ps) | H42: =+B36 -> Procesos Industriales | J42: =+VALUE(D42) -> 3 | K42: créditos | L42: =+F42 -> (TP) | M42: =+G42 -> (Ps) | N42: 1 | P42: =+IF(N42=1,J42,"") -> 3 | Q42: =+IF(O42=1,J42,"")
A43: 7 | B43: =+'Malla curricular'!T39 -> Curso Profundización I | C43: =+'Malla curricular'!U39 -> 4 créditos (TP) (Pz) | D43: {=_xlfn.TEXTSPLIT(C43," ")} -> 4 | E43: créditos | F43: (TP) | G43: (Pz) | J43: =+VALUE(D43) -> 4 | K43: créditos | L43: =+F43 -> (TP) | M43: =+G43 -> (Pz) | O43: 1 | P43: =+IF(N43=1,J43,"") | Q43: =+IF(O43=1,J43,"") -> 4
A44: 8 | B44: =+'Malla curricular'!W34 -> Electiva Complementaria I | C44: =+'Malla curricular'!X34 -> 2 créditos (T) (Co) | D44: {=_xlfn.TEXTSPLIT(C44," ")} -> 2 | E44: créditos | F44: (T) | G44: (Co) | J44: =+VALUE(D44) -> 2 | K44: créditos | L44: =+F44 -> (T) | M44: =+G44 -> (Co) | O44: 1 | P44: =+IF(N44=1,J44,"") | Q44: =+IF(O44=1,J44,"") -> 2
A45: 8 | B45: =+'Malla curricular'!W35 -> Electiva Profesional II | C45: =+'Malla curricular'!X35 -> 3 créditos (TP) (Ps) | D45: {=_xlfn.TEXTSPLIT(C45," ")} -> 3 | E45: créditos | F45: (TP) | G45: (Ps) | J45: =+VALUE(D45) -> 3 | K45: créditos | L45: =+F45 -> (TP) | M45: =+G45 -> (Ps) | O45: 1 | P45: =+IF(N45=1,J45,"") | Q45: =+IF(O45=1,J45,"") -> 3
A46: 8 | B46: =+'Malla curricular'!W36 -> Diseño de Procesos | C46: =+'Malla curricular'!X36 -> 3 créditos (TP) (Ps) | D46: {=_xlfn.TEXTSPLIT(C46," ")} -> 3 | E46: créditos | F46: (TP) | G46: (Ps) | H46: =+B40 -> Operaciones Unitarias | J46: =+VALUE(D46) -> 3 | K46: créditos | L46: =+F46 -> (TP) | M46: =+G46 -> (Ps) | N46: 1 | P46: =+IF(N46=1,J46,"") -> 3 | Q46: =+IF(O46=1,J46,"")
A47: 8 | B47: =+'Malla curricular'!W37 -> Metodología de la Investigación | C47: =+'Malla curricular'!X37 -> 3 créditos (TP) (Ps) | D47: {=_xlfn.TEXTSPLIT(C47," ")} -> 3 | E47: créditos | F47: (TP) | G47: (Ps) | J47: =+VALUE(D47) -> 3 | K47: créditos | L47: =+F47 -> (TP) | M47: =+G47 -> (Ps) | N47: 1 | P47: =+IF(N47=1,J47,"") -> 3 | Q47: =+IF(O47=1,J47,"")
A48: 8 | B48: =+'Malla curricular'!W38 -> Formulación y Evaluación de Proyectos | C48: =+'Malla curricular'!X38 -> 3 créditos (TP) (Ps) | D48: {=_xlfn.TEXTSPLIT(C48," ")} -> 3 | E48: créditos | F48: (TP) | G48: (Ps) | J48: =+VALUE(D48) -> 3 | K48: créditos | L48: =+F48 -> (TP) | M48: =+G48 -> (Ps) | N48: 1 | P48: =+IF(N48=1,J48,"") -> 3 | Q48: =+IF(O48=1,J48,"")
A49: 8 | B49: =+'Malla curricular'!W39 -> Curso Profundización II | C49: =+'Malla curricular'!X39 -> 4 créditos (TP) (Pz) | D49: {=_xlfn.TEXTSPLIT(C49," ")} -> 4 | E49: créditos | F49: (TP) | G49: (Pz) | H49: =+B43 -> Curso Profundización I | J49: =+VALUE(D49) -> 4 | K49: créditos | L49: =+F49 -> (TP) | M49: =+G49 -> (Pz) | O49: 1 | P49: =+IF(N49=1,J49,"") | Q49: =+IF(O49=1,J49,"") -> 4
A50: 9 | B50: =+'Malla curricular'!Z34 -> Electiva Complementaria II | C50: =+'Malla curricular'!AA34 -> 2 créditos (T) (Co) | D50: {=_xlfn.TEXTSPLIT(C50," ")} -> 2 | E50: créditos | F50: (T) | G50: (Co) | J50: =+VALUE(D50) -> 2 | K50: créditos | L50: =+F50 -> (T) | M50: =+G50 -> (Co) | O50: 1 | P50: =+IF(N50=1,J50,"") | Q50: =+IF(O50=1,J50,"") -> 2
A51: 9 | B51: =+'Malla curricular'!Z35 -> Electiva Profesional III | C51: =+'Malla curricular'!AA35 -> 3 créditos (TP) (Ps) | D51: {=_xlfn.TEXTSPLIT(C51," ")} -> 3 | E51: créditos | F51: (TP) | G51: (Ps) | J51: =+VALUE(D51) -> 3 | K51: créditos | L51: =+F51 -> (TP) | M51: =+G51 -> (Ps) | O51: 1 | P51: =+IF(N51=1,J51,"") | Q51: =+IF(O51=1,J51,"") -> 3
A52: 9 | B52: =+'Malla curricular'!Z36 -> Simulación y Optimización de Procesos | C52: =+'Malla curricular'!AA36 -> 3 créditos (TP) (Ps) | D52: {=_xlfn.TEXTSPLIT(C52," ")} -> 3 | E52: créditos | F52: (TP) | G52: (Ps) | J52: =+VALUE(D52) -> 3 | K52: créditos | L52: =+F52 -> (TP) | M52: =+G52 -> (Ps) | N52: 1 | P52: =+IF(N52=1,J52,"") -> 3 | Q52: =+IF(O52=1,J52,"")
A53: 9 | B53: =+'Malla curricular'!Z37 -> Trabajo de Grado | C53: =+'Malla curricular'!AA37 -> 4 créditos (TP) (Ps) | D53: {=_xlfn.TEXTSPLIT(C53," ")} -> 4 | E53: créditos | F53: (TP) | G53: (Ps) | J53: =+VALUE(D53) -> 4 | K53: créditos | L53: =+F53 -> (TP) | M53: =+G53 -> (Ps) | N53: 1 | P53: =+IF(N53=1,J53,"") -> 4 | Q53: =+IF(O53=1,J53,"")
A54: 9 | B54: =+'Malla curricular'!Z38 -> 0 | C54: =+'Malla curricular'!AA38 -> 0 | D54: {=_xlfn.TEXTSPLIT(C54," ")} -> 0 | J54: =+VALUE(D54) -> 0 | K54: créditos | L54: =+F54 -> 0 | M54: =+G54 -> 0 | N54: 1 | P54: =+IF(N54=1,J54,"") -> 0 | Q54: =+IF(O54=1,J54,"")
A55: 9 | B55: =+'Malla curricular'!Z39 -> Curso Profundización III | C55: =+'Malla curricular'!AA39 -> 4 créditos (TP) (Pz) | D55: {=_xlfn.TEXTSPLIT(C55," ")} -> 4 | E55: créditos | F55: (TP) | G55: (Pz) | H55: =+B49 -> Curso Profundización II | J55: =+VALUE(D55) -> 4 | K55: créditos | L55: =+F55 -> (TP) | M55: =+G55 -> (Pz) | O55: 1 | P55: =+IF(N55=1,J55,"") | Q55: =+IF(O55=1,J55,"") -> 4
C58: Cursos | D58: % | E58: Créditos | F58: % | P58: Créditos obligatorios | Q58: Créditos electivos
A59: (Ba) | B59: Área Básica | C59: =+COUNTIF(G:G,A59) -> 17 | D59: =+C59/$C$63 -> 0.32075472 | E59: =SUMIF($M$2:$M$55,A59,$J$2:$J$55) -> 53 | F59: =+E59/$E$63 -> 0.33757962 | P59: =SUMIF($M$2:$M$55,A59,$P$2:$P$55) -> 53 | Q59: =SUMIF($M$2:$M$55,A59,$Q$2:$Q$55) -> 0
A60: (Ps) | B60: Área Profesional | C60: =+COUNTIF(G:G,A60) -> 28 | D60: =+C60/$C$63 -> 0.52830189 | E60: =SUMIF($M$2:$M$55,A60,$J$2:$J$55) -> 82 | F60: =+E60/$E$63 -> 0.52229299 | P60: =SUMIF($M$2:$M$55,A60,$P$2:$P$55) -> 73 | Q60: =SUMIF($M$2:$M$55,A60,$Q$2:$Q$55) -> 9
A61: (Pz) | B61: Área Profundización | C61: =+COUNTIF(G:G,A61) -> 3 | D61: =+C61/$C$63 -> 0.056603774 | E61: =SUMIF($M$2:$M$55,A61,$J$2:$J$55) -> 12 | F61: =+E61/$E$63 -> 0.076433121 | P61: =SUMIF($M$2:$M$55,A61,$P$2:$P$55) -> 0 | Q61: =SUMIF($M$2:$M$55,A61,$Q$2:$Q$55) -> 12
A62: (Co) | B62: Área Complementaria | C62: =+COUNTIF(G:G,A62) -> 5 | D62: =+C62/$C$63 -> 0.094339623 | E62: =SUMIF($M$2:$M$55,A62,$J$2:$J$55) -> 10 | F62: =+E62/$E$63 -> 0.063694268 | P62: =SUMIF($M$2:$M$55,A62,$P$2:$P$55) -> 6 | Q62: =SUMIF($M$2:$M$55,A62,$Q$2:$Q$55) -> 4
B63: Total | C63: =+SUM(C59:C62) -> 53 | E63: =+SUM(E59:E62) -> 157 | P63: =+SUM(P59:P62) -> 132 | Q63: =+SUM(Q59:Q62) -> 25
B65: Promedio de créditos por semestre | C65: =+E63/A55 -> 17.444444

Sheet Borrador Matriz
A1: Tabla XX Plan de Estudios – Ingeniería xxx 2025
A2: PLAN DE ESTUDIOS - INGENIERÍA XXXXX 2025
A3: No. de Curso | B3: Curso | D3: Créditos | H3: Horas de Trabajo Académico | K3: Áreas o Componentes de Formación del Currículo | O3: Número Máximo de Estudiantes Matriculados o Proyectados
C4: Tipo de curso (T, TP o P) | D4: Cursos Obligatorios | E4: Cursos Libres | F4: Créditos Académicos | G4: Relación Crédito Académico | H4: Horas de Trabajo Directo | I4: Horas de Trabajo Independiente | J4: Horas de Trabajo Totales | K4: Básica | L4: Profesional | M4: Profundización/Investigación | N4: Complementaria
A5: I SEMESTRE
A6: 1 | B6: =+'Base de datos'!B2 -> Cálculo Diferencial | C6: =+'Base de datos'!F2 -> (T) | D6: 1 | F6: =+'Base de datos'!J2 -> 4 | G6: 1:1 | H6: 96 | I6: 96 | J6: =+SUM(H6:I6) -> 192 | K6: =+F6 -> 4 | O6: 48
A7: 2 | B7: =+'Base de datos'!B3 -> Química Básica | C7: =+'Base de datos'!F3 -> (TP) | D7: 1 | F7: =+'Base de datos'!J3 -> 4 | G7: 1:1 | H7: 96 | I7: 96 | J7: =+SUM(H7:I7) -> 192 | K7: =+F7 -> 4
A8: 3 | B8: =+'Base de datos'!B4 -> Dibujo Asistido por Computador | C8: =+'Base de datos'!F4 -> (TP) | D8: 1 | F8: =+'Base de datos'!J4 -> 2 | G8: 1:1 | H8: 48 | I8: 48 | J8: =+SUM(H8:I8) -> 96 | L8: =+F8 -> 2
A9: 4 | B9: =+'Base de datos'!B5 -> Introducción a la Ingeniería de Procesos | C9: =+'Base de datos'!F5 -> (T) | D9: 1 | F9: =+'Base de datos'!J5 -> 2 | G9: 1:1 | H9: 48 | I9: 48 | J9: =+SUM(H9:I9) -> 96 | L9: =+F9 -> 2
A10: 5 | B10: =+'Base de datos'!B6 -> Procesos Comunicativos | C10: =+'Base de datos'!F6 -> (T) | D10: 1 | F10: =+'Base de datos'!J6 -> 2 | G10: 1:1 | H10: 48 | I10: 48 | J10: =+SUM(H10:I10) -> 96 | K10: =+F10 -> 2
A11: 6 | B11: =+'Base de datos'!B7 -> Desarrollo del Pensamiento Lógico Matemático | C11: =+'Base de datos'!F7 -> (T) | D11: 1 | F11: =+'Base de datos'!J7 -> 2 | G11: 1:1 | H11: 48 | I11: 48 | J11: =+SUM(H11:I11) -> 96 | K11: =+F11 -> 2
B12: Total Semestre | D12: =+SUM(D6:D11) -> 6 | E12: =+SUM(E6:E11) -> 0 | F12: =+SUM(F6:F11) -> 16 | H12: =+SUM(H6:H11) -> 384 | I12: =+SUM(I6:I11) -> 384 | J12: =+SUM(J6:J11) -> 768 | K12: =+SUM(K6:K11) -> 12 | L12: =+SUM(L6:L11) -> 4 | M12: =+SUM(M6:M11) -> 0 | N12: =+SUM(N6:N11) -> 0
A13: II SEMESTRE
A14: 7 | B14: =+'Base de datos'!B8 -> Cálculo Integral | C14: =+'Base de datos'!F8 -> (T) | D14: 1 | F14: =+'Base de datos'!J8 -> 4 | G14: 1:1 | H14: 96 | I14: 96 | J14: =+SUM(H14:I14) -> 192 | K14: =+F14 -> 4 | O14: 48
A15: 8 | B15: =+'Base de datos'!B9 -> Álgebra Lineal | C15: =+'Base de datos'!F9 -> (T) | D15: 1 | F15: =+'Base de datos'!J9 -> 3 | G15: 1:1 | H15: 72 | I15: 72 | J15: =+SUM(H15:I15) -> 144 | K15: =+F15 -> 3
A16: 9 | B16: =+'Base de datos'!B10 -> Química Analítica e Instrumental | C16: =+'Base de datos'!F10 -> (TP) | D16: 1 | F16: =+'Base de datos'!J10 -> 3 | G16: 1:1 | H16: 72 | I16: 72 | J16: =+SUM(H16:I16) -> 144 | K16: =+F16 -> 3
A17: 10 | B17: =+'Base de datos'!B11 -> Física Mecánica | C17: =+'Base de datos'!F11 -> (TP) | D17: 1 | F17: =+'Base de datos'!J11 -> 4 | G17: 1:1 | H17: 96 | I17: 96 | J17: =+SUM(H17:I17) -> 192 | K17: =+F17 -> 4
A18: 11 | B18: =+'Base de datos'!B12 -> Cátedra Democracia y Paz | C18: =+'Base de datos'!F12 -> (T) | D18: 1 | F18: =+'Base de datos'!J12 -> 2 | G18: 1:2 | H18: 32 | I18: 64 | J18: =+SUM(H18:I18) -> 96 | N18: =+F18 -> 2
A19: 12 | B19: =+'Base de datos'!B13 -> Cátedra Orinoquía | C19: =+'Base de datos'!F13 -> (T) | D19: 1 | F19: =+'Base de datos'!J13 -> 2 | G19: 1:2 | H19: 32 | I19: 64 | J19: =+SUM(H19:I19) -> 96 | N19: =+F19 -> 2
B20: Total Semestre | D20: =+SUM(D14:D19) -> 6 | E20: =+SUM(E14:E19) -> 0 | F20: =+SUM(F14:F19) -> 18 | H20: =+SUM(H14:H19) -> 400 | I20: =+SUM(I14:I19) -> 464 | J20: =+SUM(J14:J19) -> 864 | K20: =+SUM(K14:K19) -> 14 | L20: =+SUM(L14:L19) -> 0 | M20: =+SUM(M14:M19) -> 0 | N20: =+SUM(N14:N19) -> 4
B21: III SEMESTRE
A22: 13 | B22: =+'Base de datos'!B14 -> Cálculo Multivariado | C22: =+'Base de datos'!F14 -> (T) | D22: 1 | F22: =+'Base de datos'!J14 -> 4 | G22: 1:1 | H22: 96 | I22: 96 | J22: =+SUM(H22:I22) -> 192 | K22: =+F22 -> 4 | O22: 48
A23: 14 | B23: =+'Base de datos'!B15 -> Termodinámica | C23: =+'Base de datos'!F15 -> (TP) | D23: 1 | F23: =+'Base de datos'!J15 -> 3 | G23: 1:1 | H23: 72 | I23: 72 | J23: =+SUM(H23:I23) -> 144 | K23: =+F23 -> 3
A24: 15 | B24: =+'Base de datos'!B16 -> Química Orgánica | C24: =+'Base de datos'!F16 -> (TP) | D24: 1 | F24: =+'Base de datos'!J16 -> 3 | G24: 1:1 | H24: 72 | I24: 72 | J24: =+SUM(H24:I24) -> 144 | K24: =+F24 -> 3
A25: 16 | B25: =+'Base de datos'!B17 -> Electricidad y Magnetismo | C25: =+'Base de datos'!F17 -> (TP) | D25: 1 | F25: =+'Base de datos'!J17 -> 3 | G25: 1:1 | H25: 72 | I25: 72 | J25: =+SUM(H25:I25) -> 144 | K25: =+F25 -> 3
A26: 17 | B26: =+'Base de datos'!B18 -> Probabilidad y Estadística | C26: =+'Base de datos'!F18 -> (T) | D26: 1 | F26: =+'Base de datos'!J18 -> 3 | G26: 1:1 | H26: 72 | I26: 72 | J26: =+SUM(H26:I26) -> 144 | K26: =+F26 -> 3
A27: 18 | B27: =+'Base de datos'!B19 -> Ciencia, Tecnología y Desarrollo | C27: =+'Base de datos'!F19 -> (T) | D27: 1 | F27: =+'Base de datos'!J19 -> 2 | G27: 1:2 | H27: 32 | I27: 64 | J27: =+SUM(H27:I27) -> 96 | N27: =+F27 -> 2
B28: Total Semestre | D28: =+SUM(D22:D27) -> 6 | E28: =+SUM(E22:E27) -> 0 | F28: =+SUM(F22:F27) -> 18 | H28: =+SUM(H22:H27) -> 416 | I28: =+SUM(I22:I27) -> 448 | J28: =+SUM(J22:J27) -> 864 | K28: =+SUM(K22:K27) -> 16 | L28: =+SUM(L22:L27) -> 0 | M28: =+SUM(M22:M27) -> 0 | N28: =+SUM(N22:N27) -> 2
B29: IV SEMESTRE
A30: 19 | B30: =+'Base de datos'!B20 -> Ecuaciones Diferenciales | C30: =+'Base de datos'!F20 -> (T) | D30: 1 | F30: =+'Base de datos'!J20 -> 3 | G30: 1:1 | H30: 72 | I30: 72 | J30: =+SUM(H30:I30) -> 144 | K30: =+F30 -> 3 | O30: 48
A31: 20 | B31: =+'Base de datos'!B21 -> Balance de Materia y Energía | C31: =+'Base de datos'!F21 -> (TP) | D31: 1 | F31: =+'Base de datos'!J21 -> 3 | G31: 1:1 | H31: 72 | I31: 72 | J31: =+SUM(H31:I31) -> 144 | L31: =+F31 -> 3
A32: 21 | B32: =+'Base de datos'!B22 -> Mecánica de Fluidos | C32: =+'Base de datos'!F22 -> (TP) | D32: 1 | F32: =+'Base de datos'!J22 -> 3 | G32: 1:1 | H32: 72 | I32: 72 | J32: =+SUM(H32:I32) -> 144 | L32: =+F32 -> 3
A33: 22 | B33: =+'Base de datos'!B23 -> Diseño de Experimentos | C33: =+'Base de datos'!F23 -> (TP) | D33: 1 | F33: =+'Base de datos'!J23 -> 2 | G33: 1:1 | H33: 48 | I33: 48 | J33: =+SUM(H33:I33) -> 96 | K33: =+F33 -> 2
A34: 23 | B34: =+'Base de datos'!B24 -> Fundamentos de Programación | C34: =+'Base de datos'!F24 -> (TP) | D34: 1 | F34: =+'Base de datos'!J24 -> 3 | G34: 1:1 | H34: 72 | I34: 72 | J34: =+SUM(H34:I34) -> 144 | L34: =+F34 -> 3
A35: 24 | B35: =+'Base de datos'!B25 -> Fisicoquímica | C35: =+'Base de datos'!F25 -> (TP) | D35: 1 | F35: =+'Base de datos'!J25 -> 3 | G35: 1:1 | H35: 72 | I35: 72 | J35: =+SUM(H35:I35) -> 144 | K35: =+F35 -> 3
B36: Total Semestre | D36: =+SUM(D30:D35) -> 6 | E36: =+SUM(E30:E35) -> 0 | F36: =+SUM(F30:F35) -> 17 | H36: =+SUM(H30:H35) -> 408 | I36: =+SUM(I30:I35) -> 408 | J36: =+SUM(J30:J35) -> 816 | K36: =+SUM(K30:K35) -> 8 | L36: =+SUM(L30:L35) -> 9 | M36: =+SUM(M30:M35) -> 0 | N36: =+SUM(N30:N35) -> 0
B37: V SEMESTRE
A38: 25 | B38: =+'Base de datos'!B26 -> Métodos Numéricos | C38: =+'Base de datos'!F26 -> (TP) | D38: 1 | F38: =+'Base de datos'!J26 -> 3 | G38: 1:1 | H38: 72 | I38: 72 | J38: =+SUM(H38:I38) -> 144 | L38: =+F38 -> 3 | O38: 48
A39: 26 | B39: =+'Base de datos'!B27 -> Transferencia de Calor | C39: =+'Base de datos'!F27 -> (TP) | D39: 1 | F39: =+'Base de datos'!J27 -> 3 | G39: 1:1 | H39: 72 | I39: 72 | J39: =+SUM(H39:I39) -> 144 | L39: =+F39 -> 3
A40: 27 | B40: =+'Base de datos'!B28 -> Gestión Integrada | C40: =+'Base de datos'!F28 -> (T) | D40: 1 | F40: =+'Base de datos'!J28 -> 3 | G40: 1:1 | H40: 72 | I40: 72 | J40: =+SUM(H40:I40) -> 144 | L40: =+F40 -> 3
A41: 28 | B41: =+'Base de datos'!B29 -> Manejo de Sólidos | C41: =+'Base de datos'!F29 -> (TP) | D41: 1 | F41: =+'Base de datos'!J29 -> 3 | G41: 1:1 | H41: 72 | I41: 72 | J41: =+SUM(H41:I41) -> 144 | L41: =+F41 -> 3
A42: 29 | B42: =+'Base de datos'!B30 -> Gestión de Producción | C42: =+'Base de datos'!F30 -> (TP) | D42: 1 | F42: =+'Base de datos'!J30 -> 3 | G42: 1:1 | H42: 72 | I42: 72 | J42: =+SUM(H42:I42) -> 144 | L42: =+F42 -> 3
A43: 30 | B43: =+'Base de datos'!B31 -> Ingeniería Económica | C43: =+'Base de datos'!F31 -> (T) | D43: 1 | F43: =+'Base de datos'!J31 -> 3 | G43: 1:1 | H43: 72 | I43: 72 | J43: =+SUM(H43:I43) -> 144 | L43: =+F43 -> 3
B44: Total Semestre | D44: =+SUM(D38:D43) -> 6 | E44: =+SUM(E38:E43) -> 0 | F44: =+SUM(F38:F43) -> 18 | H44: =+SUM(H38:H43) -> 432 | I44: =+SUM(I38:I43) -> 432 | J44: =+SUM(J38:J43) -> 864 | K44: =+SUM(K38:K43) -> 0 | L44: =+SUM(L38:L43) -> 18 | M44: =+SUM(M38:M43) -> 0 | N44: =+SUM(N38:N43) -> 0
B45: VI SEMESTRE
A46: 31 | B46: =+'Base de datos'!B32 -> Ingeniería de las Reacciones | C46: =+'Base de datos'!F32 -> (TP) | D46: 1 | F46: =+'Base de datos'!J32 -> 3 | G46: 1:1 | H46: 72 | I46: 72 | J46: =+SUM(H46:I46) -> 144 | L46: =+F46 -> 3 | O46: 48
A47: 32 | B47: =+'Base de datos'!B33 -> Química Inorgánica | C47: =+'Base de datos'!F33 -> (TP) | D47: 1 | F47: =+'Base de datos'!J33 -> 3 | G47: 1:1 | H47: 72 | I47: 72 | J47: =+SUM(H47:I47) -> 144 | K47: 3
A48: 33 | B48: =+'Base de datos'!B34 -> Transferencia de Masa | C48: =+'Base de datos'!F34 -> (TP) | D48: 1 | F48: =+'Base de datos'!J34 -> 3 | G48: 1:1 | H48: 72 | I48: 72 | J48: =+SUM(H48:I48) -> 144 | L48: =+F48 -> 3
A49: 34 | B49: =+'Base de datos'!B35 -> Procesos de Manufactura | C49: =+'Base de datos'!F35 -> (TP) | D49: 1 | F49: =+'Base de datos'!J35 -> 3 | G49: 1:1 | H49: 72 | I49: 72 | J49: =+SUM(H49:I49) -> 144 | L49: =+F49 -> 3
A50: 35 | B50: =+'Base de datos'!B36 -> Procesos Industriales | C50: =+'Base de datos'!F36 -> (TP) | D50: 1 | F50: =+'Base de datos'!J36 -> 3 | G50: 1:1 | H50: 96 | I50: 96 | J50: =+SUM(H50:I50) -> 192 | L50: =+F50 -> 3
A51: 36 | B51: =+'Base de datos'!B37 -> Logística y Distribución Industrial | C51: =+'Base de datos'!F37 -> (TP) | D51: 1 | F51: =+'Base de datos'!J37 -> 3 | G51: 1:1 | H51: 72 | I51: 72 | J51: =+SUM(H51:I51) -> 144 | L51: =+F51 -> 3
B52: Total Semestre | D52: =+SUM(D46:D51) -> 6 | E52: =+SUM(E46:E51) -> 0 | F52: =+SUM(F46:F51) -> 18 | H52: =+SUM(H46:H51) -> 456 | I52: =+SUM(I46:I51) -> 456 | J52: =+SUM(J46:J51) -> 912 | K52: =+SUM(K46:K51) -> 3 | L52: =+SUM(L46:L51) -> 15 | M52: =+SUM(M46:M51) -> 0 | N52: =+SUM(N46:N51) -> 0
B53: VII SEMESTRE
A54: 37 | B54: =+'Base de datos'!B38 -> Ciencia de los Materiales | C54: =+'Base de datos'!F38 -> (TP) | D54: 1 | F54: =+'Base de datos'!J38 -> 3 | G54: 1:1 | H54: 96 | I54: 96 | J54: =+SUM(H54:I54) -> 192 | L54: =+F54 -> 3 | O54: 48
A55: 38 | B55: =+'Base de datos'!B39 -> Electiva Profesional I | C55: =+'Base de datos'!F39 -> (TP) | E55: 1 | F55: =+'Base de datos'!J39 -> 3 | G55: 1:1 | H55: 72 | I55: 72 | J55: =+SUM(H55:I55) -> 144 | L55: =+F55 -> 3
A56: 39 | B56: =+'Base de datos'!B40 -> Operaciones Unitarias | C56: =+'Base de datos'!F40 -> (TP) | D56: 1 | F56: =+'Base de datos'!J40 -> 3 | G56: 1:1 | H56: 72 | I56: 72 | J56: =+SUM(H56:I56) -> 144 | L56: =+F56 -> 3
A57: 40 | B57: =+'Base de datos'!B41 -> Diseño de Productos | C57: =+'Base de datos'!F41 -> (TP) | D57: 1 | F57: =+'Base de datos'!J41 -> 2 | G57: 1:1 | H57: 48 | I57: 48 | J57: =+SUM(H57:I57) -> 96 | L57: =+F57 -> 2
A58: 41 | B58: =+'Base de datos'!B42 -> Control y Automatización de Procesos Industriales | C58: =+'Base de datos'!F42 -> (TP) | D58: 1 | F58: =+'Base de datos'!J42 -> 3 | G58: 1:1 | H58: 72 | I58: 72 | J58: =+SUM(H58:I58) -> 144 | L58: =+F58 -> 3
A59: 42 | B59: =+'Base de datos'!B43 -> Curso Profundización I | C59: =+'Base de datos'!F43 -> (TP) | E59: 1 | F59: =+'Base de datos'!J43 -> 4 | G59: 1:1 | H59: 96 | I59: 96 | J59: =+SUM(H59:I59) -> 192 | M59: =+F59 -> 4
B60: Total Semestre | D60: =+SUM(D54:D59) -> 4 | E60: =+SUM(E54:E59) -> 2 | F60: =+SUM(F54:F59) -> 18 | H60: =+SUM(H54:H59) -> 456 | I60: =+SUM(I54:I59) -> 456 | J60: =+SUM(J54:J59) -> 912 | K60: =+SUM(K54:K59) -> 0 | L60: =+SUM(L54:L59) -> 14 | M60: =+SUM(M54:M59) -> 4 | N60: =+SUM(N54:N59) -> 0
B61: VIII SEMESTRE
A62: 43 | B62: =+'Base de datos'!B44 -> Electiva Complementaria I | C62: =+'Base de datos'!F44 -> (T) | E62: 1 | F62: =+'Base de datos'!J44 -> 2 | G62: 1:2 | H62: 32 | I62: 64 | J62: =+SUM(H62:I62) -> 96 | N62: =+F62 -> 2 | O62: 48
A63: 44 | B63: =+'Base de datos'!B45 -> Electiva Profesional II | C63: =+'Base de datos'!F45 -> (TP) | E63: 1 | F63: =+'Base de datos'!J45 -> 3 | G63: 1:1 | H63: 72 | I63: 72 | J63: =+SUM(H63:I63) -> 144 | L63: =+F63 -> 3
A64: 45 | B64: =+'Base de datos'!B46 -> Diseño de Procesos | C64: =+'Base de datos'!F46 -> (TP) | D64: 1 | F64: =+'Base de datos'!J46 -> 3 | G64: 1:1 | H64: 72 | I64: 72 | J64: =+SUM(H64:I64) -> 144 | L64: =+F64 -> 3
A65: 46 | B65: =+'Base de datos'!B47 -> Metodología de la Investigación | C65: =+'Base de datos'!F47 -> (TP) | D65: 1 | F65: =+'Base de datos'!J47 -> 3 | G65: 1:2 | H65: 48 | I65: 96 | J65: =+SUM(H65:I65) -> 144 | L65: =+F65 -> 3
A66: 47 | B66: =+'Base de datos'!B48 -> Formulación y Evaluación de Proyectos | C66: =+'Base de datos'!F48 -> (TP) | D66: 1 | F66: =+'Base de datos'!J48 -> 3 | G66: 1:1 | H66: 72 | I66: 72 | J66: =+SUM(H66:I66) -> 144 | L66: =+F66 -> 3
A67: 48 | B67: =+'Base de datos'!B49 -> Curso Profundización II | C67: =+'Base de datos'!F49 -> (TP) | E67: 1 | F67: =+'Base de datos'!J49 -> 4 | G67: 1:1 | H67: 96 | I67: 96 | J67: =+SUM(H67:I67) -> 192 | M67: =+F67 -> 4
B68: Total Semestre | D68: =+SUM(D62:D67) -> 3 | E68: =+SUM(E62:E67) -> 3 | F68: =+SUM(F62:F67) -> 18 | H68: =+SUM(H62:H67) -> 392 | I68: =+SUM(I62:I67) -> 472 | J68: =+SUM(J62:J67) -> 864 | K68: =+SUM(K62:K67) -> 0 | L68: =+SUM(L62:L67) -> 12 | M68: =+SUM(M62:M67) -> 4 | N68: =+SUM(N62:N67) -> 2
B69: IX SEMESTRE
A70: 49 | B70: =+'Base de datos'!B50 -> Electiva Complementaria II | C70: =+'Base de datos'!F50 -> (T) | E70: 1 | F70: =+'Base de datos'!J50 -> 2 | G70: 1:2 | H70: 32 | I70: 64 | J70: =+SUM(H70:I70) -> 96 | N70: =+F70 -> 2 | O70: 48
A71: 50 | B71: =+'Base de datos'!B51 -> Electiva Profesional III | C71: =+'Base de datos'!F51 -> (TP) | E71: 1 | F71: =+'Base de datos'!J51 -> 3 | G71: 1:1 | H71: 72 | I71: 72 | J71: =+SUM(H71:I71) -> 144 | L71: =+F71 -> 3
A72: 51 | B72: =+'Base de datos'!B52 -> Simulación y Optimización de Procesos | C72: =+'Base de datos'!F52 -> (TP) | D72: 1 | F72: =+'Base de datos'!J52 -> 3 | G72: 1:1 | H72: 72 | I72: 72 | J72: =+SUM(H72:I72) -> 144 | L72: =+F72 -> 3
A73: 52 | B73: =+'Base de datos'!B53 -> Trabajo de Grado | C73: =+'Base de datos'!F53 -> (TP) | D73: 1 | F73: =+'Base de datos'!J53 -> 4 | G73: 1:2 | H73: 64 | I73: 128 | J73: =+SUM(H73:I73) -> 192 | L73: =+F73 -> 4
B74: =+'Base de datos'!B54 -> 0 | C74: =+'Base de datos'!F54 -> 0 | F74: =+'Base de datos'!J54 -> 0
A75: 53 | B75: =+'Base de datos'!B55 -> Curso Profundización III | C75: =+'Base de datos'!F55 -> (TP) | E75: 1 | F75: =+'Base de datos'!J55 -> 4 | G75: 1:1 | H75: 96 | I75: 96 | J75: =+SUM(H75:I75) -> 192 | M75: =+F75 -> 4
B76: Total Semestre | D76: =+SUM(D70:D75) -> 2 | E76: =+SUM(E70:E75) -> 3 | F76: =+SUM(F70:F75) -> 16 | H76: =+SUM(H70:H75) -> 336 | I76: =+SUM(I70:I75) -> 432 | J76: =+SUM(J70:J75) -> 768 | K76: =+SUM(K70:K75) -> 0 | L76: =+SUM(L70:L75) -> 10 | M76: =+SUM(M70:M75) -> 4 | N76: =+SUM(N70:N75) -> 2
B78: Total de cursos | D78: =+D12+D20+D28+D36+D44+D52+D60+D68+D76 -> 45 | E78: =+E12+E20+E28+E36+E44+E52+E60+E68+E76 -> 8 | K78: =+COUNT(K6:K11,K14:K19,K22:K27,K30:K35,K38:K43,K46:K51,K54:K59,K62:K67,K70:K75) -> 17 | L78: =+COUNT(L6:L11,L14:L19,L22:L27,L30:L35,L38:L43,L46:L51,L54:L59,L62:L67,L70:L75) -> 28 | M78: =+COUNT(M6:M11,M14:M19,M22:M27,M30:M35,M38:M43,M46:M51,M54:M59,M62:M67,M70:M75) -> 3 | N78: =+COUNT(N6:N11,N14:N19,N22:N27,N30:N35,N38:N43,N46:N51,N54:N59,N62:N67,N70:N75) -> 5
B79: PLAN DE ESTUDIOS | D79: =+D78+E78 -> 53 | K79: =(K78*100)/D79 -> 32.075472 | L79: =(L78*100)/D79 -> 52.830189 | M79: =(M78*100)/D79 -> 5.6603774 | N79: =(N78*100)/D79 -> 9.4339623
B80: Total Número de horas | H80: =(H76+H68+H60+H52+H44+H36+H28+H20+H12) -> 3680 | I80: =(I76+I68+I60+I52+I44+I36+I28+I20+I12) -> 3952 | J80: =(J76+J68+J60+J52+J44+J36+J28+J20+J12) -> 7632
B81: PLAN DE ESTUDIOS
B82: Total Porcentaje Horas (%) | H82: =(H80*100)/J80 -> 48.218029 | I82: =(I80*100)/J80 -> 51.781971 | J82: =(J80*100)/J80 -> 100
B83: Total Número Créditos del Programa | F83: =(F76+F68+F60+F52+F44+F36+F28+F20+F12) -> 157 | K83: =+K12+K20+K28+K36+K44+K52+K60+K68+K76 -> 53 | L83: =+L12+L20+L28+L36+L44+L52+L60+L68+L76 -> 82 | M83: =+M12+M20+M28+M36+M44+M52+M60+M68+M76 -> 12 | N83: =+N12+N20+N28+N36+N44+N52+N60+N68+N76 -> 10
B84: Total Porcentaje Créditos (%) | F84: 100 | K84: =(K83*100)/F83 -> 33.757962 | L84: =(L83*100)/F83 -> 52.229299 | M84: =(M83*100)/F83 -> 7.6433121 | N84: =(N83*100)/F83 -> 6.3694268
